{"text_format":"1","workbook":"xlsx","n_sheets":79,"sheets":["At a glance","ASSETS","Fixed assets","Fixed capital stock","Fixed capital stock by org","% Fixed capital stock by organi","Fixed captital stock org graph","Home ownership","Home ownership 2007-23","Home ownership % 2007-23","Home ownership by race","Home ownership by race %","Vertical Houses ownedf but","Tenure","Household tenure status by sex","Graph Household tenure status","Tenure status by sex %","Tenure status by prov#","% Household tenure status by pr","Land redistributed  ","Title deeds Custodianship Lease","Title deed targets achieved","Non-fixed assets","Households owning a particular ","Households owning a particu (2)","Motor vehicles","Registered vehicles.2003&2024","Graph registered vehicles by pr","Motorised vehicles.1999-2024","Financial assets and services","Saving+credit","Households that have fallen beh","Credit granted by provider"," HH saving on educ.10-23","Households that use informal sa","Credit","Total credit granted by provinc","Secured credit granted income","Secured credit granted by type ","Unsecured credit granted by mon","Total consumer credit granted","Total outstanding consumer cred","Number of mortgage agreements b","Mortgages granted by income ","Personal loans.13-24","Top reasons for borrowing","INCOMES.","Household sources of income#","Household sources of income %","Sources of income by province#","Sources of income by province%","Top reasons for saving","Personal income","Average take home pay index","Wages and salaries","Average monthly earnings in for","Average monthly earnings non-ag","Graph Average monthly earnings ","EXPENDITURE.CONSUMPTION","Monthly HH Expenditure by race#","Graph Monthly HH expenditure","Monthly HH Expenditure by race%","Graph % Monthly HH Expenditure ","Spending R10 000 by race","HH expenditure by prov#","% HH expenditure by prov%","HH expenditure by sex#","HH expenditure by sex%","Distribution of final household","Final consumption of households","POVERTY.QOLI","Inflation-adjusted national pov","Households classified as poor","Subjective poverty by province","Subjective poverty by race","Subjective poverty by education","QOLI","QOLI Index","Macros"],"not_rendered":{"charts":9,"images":0,"macros":1,"external_links":21,"defined_names":6621,"comments":6,"pivot_tables":0},"unopened":[],"bounds":{"document_bytes":16777216,"sheet_cells":100000,"rows_first":2000,"rows_last":500,"rows_between":2000,"halvings":0,"cell_chars":16384,"cell_head_chars":4096},"cells_cut":0,"cells_raw":0,"read":"whole","date_system":"1900"}

{"sheet":"At a glance","index":0,"n_rows":31,"n_cols":2,"rows_kept":31,"cut":false,"hidden":false,"merged":[[1,0,1,1],[2,0,2,1]]}
[]
["Gerbrandt van Heerden"]
["At a glancea"]
["Number of houses owned and fully paid off (2023)","10.66m"]
["Proportion of houses owned and fully paid off belonging to Black people (2023)",0.84799999999999998]
["Proportion of houses owned and fully paid off belonging to White people (2023)",6.7000000000000004E-2]
["Proportion of houses owned and fully paid off belonging to men (2023)",0.51500000000000001]
["Proportion of houses owned and fully paid off belonging to women (2023)",0.48499999999999999]
["Proportional share of houses owned and not yet fully paid off to a bank belonging to Black people (2023)",0.47299999999999998]
["Proportion of houses owned and not yet fully paid off to a bank belonging to White people (2023)",0.307]
["People per motor car (2024)",8]
["Households owning a television set (2023)","14.89m"]
["Households owning a refrigerator (2023)","15.32m"]
["Households with a computer/desktop/laptop (2023)","4.72m"]
["Microwave oven (2023)","11.08m"]
["Proportion of households that have fallen behind on store card payments ",0.23]
["Proportion of households that have fallen behind on household bills ",0.3]
["Proportion of households that have fallen behind on rent or home loan payments ",0.15]
["Total outstanding consumer creditb","R2.10tn"]
["Proportion of households that receive an income from a salary/wage/commission (2023)",0.622]
["Proportion of households that receive an income from a business (2023)",0.16200000000000001]
["Proportion of households that receive an income from a grant (2023)",0.505]
["Average monthly earningsc (02/24)",23552]
["Proportion of households spending R10 000 or more per month (2023)",0.19700000000000001]
["Proportion of Black households spending R10 000 or more per month (2023)",0.125]
["Proportion of White households spending R10 000 or more per month (2023)",0.73299999999999998]
["Proportion of households classified as poor by metropolitan municipality (2023) ",0.249]
["Quality of Life Index Score (South Africa)","5.7/10"]
["a Figures are for 2024 unless otherwise stated in brackets."]
["b At current prices in the formal non-agricultural sector."]
["c    As at quarter ended June 2024."]

{"sheet":"ASSETS","index":1,"n_rows":0,"n_cols":0,"rows_kept":0,"cut":false,"hidden":false,"merged":[]}

{"sheet":"Fixed assets","index":2,"n_rows":0,"n_cols":0,"rows_kept":0,"cut":false,"hidden":false,"merged":[]}

{"sheet":"Fixed capital stock","index":3,"n_rows":27,"n_cols":8,"rows_kept":27,"cut":false,"hidden":false,"merged":[[26,0,26,7],[9,7,10,7],[21,0,21,7],[1,0,1,7],[3,0,3,7],[5,0,5,7],[7,0,7,7],[22,0,22,7],[10,1,10,6]]}
[]
["ASSETS"]
[]
["Fixed assets"]
[]
["Fixed capital stock"]
[]
["Fixed capitala stock by economic sector, 2016-23"]
[]
[null,2016,2019,2020,2021,2022,2023,"Change 2016-23"]
["Economic sector","—Rbnb—"]
["Agriculture, forestry and fishing",0.27600000000000002,0.28722199999999998,0.289412,0.286692,0.28999999999999998,0.3,{"$f":"(G12-B12)/B12","v":8.6956521739130307E-2}]
["Mining and quarrying",0.52,0.54,0.54,0.52959100000000003,0.53,0.55000000000000004,{"$f":"(G13-B13)/B13","v":5.7692307692307744E-2}]
["Manufacturing",0.73,0.74,0.73,0.71,0.71,0.71,-2.7397260273972629E-2]
["Electricity, gas and water",0.86,0.95560900000000004,0.97,0.98,0.98,0.99,0.15116279069767444]
["Construction (contractors)",6.7860000000000004E-2,7.4259000000000006E-2,7.2144E-2,7.0330000000000004E-2,7.0000000000000007E-2,7.0000000000000007E-2,3.1535514294135029E-2]
["Wholesale and retail trade, catering and accommodation",0.35,0.367116,0.37,0.37,0.38,0.38,8.5714285714285798E-2]
["Transport, storage and communication",0.85,0.86,0.84855400000000003,0.84,0.84,0.84,-1.1764705882352951E-2]
["Financial intermediation, insurance, real estate and business servicesc",2.54,2.65,2.65,2.66,2.68,2.68,5.511811023622052E-2]
["Community, social and personal servicesd",2.12,2.2400000000000002,2.2641849999999999,2.2799999999999998,2.29,2.31,8.9622641509433928E-2]
["Totale",8.31,8.7100000000000009,8.7200000000000006,8.73,8.7799999999999994,8.83,{"$f":"(G21-B21)/B21","v":6.2575210589650973E-2}]
["Source: South African Reserve Bank (SARB), Quarterly Bulletin, March 2024, S-131"]
["a Fixed capital is the portion of total capital that is invested in fixed assets, such as land, buildings, vehicles, and equipment. The distinguishing feature of a fixed asset is that it may be used repeatedly or continuously in production over a long period of time, which is taken to be more than a year. Fixed assets include not only structures, machinery, and equipment but also cultivated assets such as trees or animals that are used repeatedly or continuously to produce other products such as fruit or dairy products. They also include intellectual property products such as software or artistic originals used in production."]
["b At constant 2015 prices."]
["c Includes transfer costs."]
["d Includes government."]
["e Figures may not add up vertically, owing to rounding."]

{"sheet":"Fixed capital stock by org","index":4,"n_rows":11,"n_cols":8,"rows_kept":11,"cut":false,"hidden":false,"merged":[[1,0,1,7],[9,0,9,7],[3,0,4,0],[3,7,4,7],[4,1,4,5]]}
[]
["Fixed capital stock by type of organisation (actual numbers), 2016-23"]
[]
["Type of organisation",2016,2019,2020,2021,2022,2023,"Change 2016-23"]
[null,"—Rbna—"]
["General government ",2.2000000000000002,2.2926329999999999,2.31,2.3199999999999998,2.33,2.35,{"$f":"(G6-B6)/B6","v":6.8181818181818135E-2}]
["Public corporations",1.4,1.48,1.48,1.47,1.48,1.48,{"$f":"(G7-B7)/B7","v":5.7142857142857197E-2}]
["Private business enterprises",4.72,4.9400000000000004,4.9400000000000004,4.9400000000000004,4.97,5,5.9322033898305142E-2]
["Total",8.31,8.7100000000000009,8.7200000000000006,{"$f":"SUM(E6:E8)","v":8.73},8.7799999999999994,8.83,6.2575210589650973E-2]
["Source: SARB, Quarterly Bulletin, March 2024, S-131"]
["a  At constant 2015 prices. "]

{"sheet":"% Fixed capital stock by organi","index":5,"n_rows":10,"n_cols":24,"rows_kept":10,"cut":false,"hidden":false,"merged":[[1,0,1,7],[2,9,3,9],[2,15,3,15],[3,10,3,14],[8,9,8,15],[8,0,8,7],[2,16,3,16],[2,23,3,23],[3,17,3,21]]}
[]
["Fixed capital stock by type of organisation (proportions), 2016-23"]
[null,null,null,null,null,null,null,null,null,"Type of organisation",2015,2019,2020,2021,2022,"Change 2014-22","Type of organisation",2016,2019,2020,2021,2022,2023,"Change 2016-23"]
["Type of organisation",2016,2019,2020,2021,2022,2023,"Change 2016-23",null,null,"—Rbna—",null,null,null,null,null,null,"—Rbna—"]
["General government ",{"$f":"(R5/Total831)","v":0.26474127557160049},{"$f":"(S5/Total871)","v":0.263218484500574},{"$f":"(T5/Total872)","v":0.26490825688073394},{"$f":"(U5/Total873)","v":0.26575028636884301},{"$f":"(V5/Total878)","v":0.26537585421412302},{"$f":"(W5/Total883)","v":0.26613816534541335},{"$f":"(G5-B5)/B5","v":5.2764336456294827E-3},null,"General government ",2.14,2.2926329999999999,2.31,2.3199999999999998,2.33,{"$f":"(O5-K5)/K5","v":8.8785046728971931E-2},"General government ",2.2000000000000002,2.2926329999999999,2.31,2.3199999999999998,2.33,2.35,{"$f":"(W5-R5)/R5","v":6.8181818181818135E-2}]
["Public corporations",{"$f":"(R6/Total831)","v":0.1684717208182912},{"$f":"(S6/Total871)","v":0.16991963260619974},{"$f":"(T6/Total872)","v":0.16972477064220182},{"$f":"(U6/Total873)","v":0.1683848797250859},{"$f":"(V6/Total878)","v":0.16856492027334852},{"$f":"(W6/Total883)","v":0.16761041902604756},{"$f":"(G6-B6)/B6","v":-5.1124413525318957E-3},null,"Public corporations",1.34,1.48,1.47,1.47,1.47,{"$f":"(O6-K6)/K6","v":9.7014925373134248E-2},"Public corporations",1.4,1.48,1.48,1.47,1.48,1.48,{"$f":"(W6-R6)/R6","v":5.7142857142857197E-2}]
["Private business enterprises",{"$f":"(R7/Total831)","v":0.5679903730445246},{"$f":"(S7/Total871)","v":0.56716417910447758},{"$f":"(T7/Total872)","v":0.5665137614678899},{"$f":"(U7/Total873)","v":0.56586483390607101},{"$f":"(V7/Total878)","v":0.56605922551252852},{"$f":"(W7/Total883)","v":0.56625141562853909},-3.0615966370422846E-3,null,"Private business enterprises",4.66,4.9349280000000002,4.92,4.91,4.93,5.7939914163090037E-2,"Private business enterprises",4.72,4.9400000000000004,4.9400000000000004,4.9400000000000004,4.97,5,5.9322033898305142E-2]
["Totala",1,1,1,{"$f":"SUM(E5:E7)","v":0.99999999999999989},{"$f":"SUM(F5:F7)","v":1},{"$f":"SUM(G5:G7)","v":1},"—",null,"Total",{"$f":"SUM(K5:K7)","v":8.14},8.6999999999999993,{"$f":"SUM(M5:M7)","v":8.6999999999999993},{"$f":"SUM(N5:N7)","v":8.6999999999999993},8.73,7.2481572481572457E-2,"Total",8.31,8.7100000000000009,8.7200000000000006,{"$f":"SUM(U5:U7)","v":8.73},8.7799999999999994,8.83,6.2575210589650973E-2]
["Source: SARB, Quarterly Bulletin, March 2024, S-131",null,null,null,null,null,null,null,null,"Source: SARB, Quarterly Bulletin, March 2023, S-131"]
["a  Figures should add up vertically but may not, owing to rounding. "]

{"sheet":"Fixed captital stock org graph","index":6,"n_rows":8,"n_cols":3,"rows_kept":8,"cut":false,"hidden":false,"merged":[[1,0,1,10]]}
[]
["Fixed capital stock by type of organisation, 2016 and 2023"]
[]
[null,2016,2023]
["General government ",2.2000000000000002,2.35]
["Public corporations",1.4,1.48]
["Private business enterprises",4.72,5]
["Total",{"$f":"SUM(B5:B7)","v":8.32},{"$f":"SUM(C5:C7)","v":8.83}]

{"sheet":"Home ownership","index":7,"n_rows":0,"n_cols":0,"rows_kept":0,"cut":false,"hidden":false,"merged":[]}

{"sheet":"Home ownership 2007-23","index":8,"n_rows":15,"n_cols":13,"rows_kept":15,"cut":false,"hidden":false,"merged":[[1,0,1,12],[13,0,13,3],[14,0,14,6],[6,10,6,12],[4,0,4,12],[11,0,11,12],[12,0,12,12],[6,1,6,3],[6,4,6,6],[6,7,6,9]]}
[]
["Home ownership"]
[]
[]
["Home ownership by race (actual numbers), 2007-23"]
[]
[null,"—2007—",null,null,"—2012—",null,null,"—2020—",null,null,"—2023—"]
["Status","Black","Otherb","Total","Black","Otherb","Total","Black","Otherb","Total","Black","Otherb","Total"]
["Owned and fully paid off","6 778 000a",1338000,8116000,"6 622 000a",1279000,7901000,"9 331 000a",1633000,10964000,"9 046 000a",1618000,10663000]
["Owned, but not yet paid offc",317000,1921000,{"$f":"SUM(B10:C10)","v":2238000},487000,767000,{"$f":"SUM(E10:F10)","v":1254000},308000,205000,513000,568000,634000,{"$f":"SUM(K10:L10)","v":1202000}]
["Total households",7095000,{"$f":"SUM(C9:C10)","v":3259000},{"$f":"SUM(D9:D10)","v":10354000},7109000,{"$f":"SUM(F9:F10)","v":2046000},{"$f":"SUM(E11:F11)","v":9155000},9639000,{"$f":"SUM(I9:I10)","v":1838000},{"$f":"SUM(J9:J10)","v":11477000},9614000,{"$f":"SUM(L9:L10)","v":2252000},{"$f":"SUM(M9:M10)","v":11865000}]
["Source: Statistics South Africa (Stats SA), General Household Survey 2007, Statistical release P0318, 10 July 2008, Table 7.16, p119; General Household Survey 2012, Statistical release P0318, 3 October 2013, Table 8.6, p112; General Household Survey 2020, Statistical release P0318, 2 December 2021, Table 8.6, p40;  General Household Survey 2023 Addendum tables, Statistical release P0318, 23 May 2024, Table 8.6, p123"]
["a The high levels of homes owned and fully paid off by Black South Africans can be attributed, in large part, to the provision of housing by the State. "]
["b Includes Coloured, Indian/Asian and White."]
["c Includes houses owned but not yet paid off to bank/financial institution or private lender.  "]

{"sheet":"Home ownership % 2007-23","index":9,"n_rows":13,"n_cols":13,"rows_kept":13,"cut":false,"hidden":false,"merged":[[1,0,1,12],[10,0,10,3],[11,0,11,9],[12,0,12,9],[3,10,3,12],[8,0,8,12],[3,1,3,3],[3,4,3,6],[3,7,3,9],[9,0,9,12]]}
[]
["Home ownership by race (proportions), 2007-23"]
[]
[null,"—2007—",null,null,"—2012—",null,null,"—2020—",null,null,"—2023—"]
["Status","Black","Otherb","Total","Black","Otherb","Total","Black","Otherb","Totald","Black","Otherb","Totald"]
["Owned and fully paid off","83.5%a",0.16500000000000001,1,"83.8%a",0.16200000000000001,1,"85.1%a",0.14899999999999999,1,"84,8%a",0.152,1]
["Owned, but not yet paid offc",0.14199999999999999,0.85799999999999998,{"$f":"SUM(B7:C7)","v":1},0.38800000000000001,0.61199999999999999,{"$f":"SUM(E7:F7)","v":1},0.6,0.4,1,0.47299999999999998,0.52700000000000002,{"$f":"SUM(K7:L7)","v":1}]
["Total households",0.68500000000000005,0.315,{"$f":"SUM(B8:C8)","v":1},0.77700000000000002,0.223,{"$f":"SUM(E8:F8)","v":1},0.84,0.16,{"$f":"SUM(H8:I8)","v":1},0.81,0.19,{"$f":"SUM(K8:L8)","v":1}]
["Source: Stats SA, General Household Survey 2007, Statistical release P0318, 10 July 2008, Table 7.16, p119; General Household Survey 2012, Statistical release P0318, 3 October 2013, Table 8.6, p112; General Household Survey 2020, Statistical release P0318, 2 December 2021, Table 8.6, p40;  General Household Survey 2023 Addendum tables, Statistical release P0318, 23 May 2024, Table 8.6, p123"]
["a The high levels of homes owned and fully paid off by Black South Africans can be attributed, in large part, to the provision of housing by the State. "]
["b Includes Coloured, Indian/Asian and White."]
["c Includes houses owned but not yet paid off to bank/financial institution or private lender.  "]
["d Figures should add up horizontally to 100% but may not, owing to rounding."]

{"sheet":"Home ownership by race","index":10,"n_rows":10,"n_cols":6,"rows_kept":10,"cut":false,"hidden":false,"merged":[[1,0,1,5],[8,0,8,5],[9,0,9,5]]}
[]
["Home ownership by race (actual numbers), 2023"]
[]
["Status","Black","Coloured","Indian/Asian","White","Total"]
["Owned and fully paid off","9 046 000a",688000,217000,713000,10664000]
["Owned, but not yet paid off to bank",490000,162000,67000,318000,{"$f":"SUM(B6:E6)","v":1037000}]
["Owned, but not yet paid off to private lender",78000,20000,7000,60000,{"$f":"SUM(B7:E7)","v":165000}]
["Total households",9614000,{"$f":"SUM(C5:C7)","v":870000},{"$f":"SUM(D5:D7)","v":291000},{"$f":"SUM(E5:E7)","v":1091000},{"$f":"SUM(F5:F7)","v":11866000}]
["Source: Stats SA,  General Household Survey 2023 Addendum tables, Statistical release P0318, 23 May 2024, Table 8.6, p123"]
["a The high levels of homes owned and fully paid off by Black South Africans can be attributed, in large part, to the provision of housing by the State. "]

{"sheet":"Home ownership by race %","index":11,"n_rows":11,"n_cols":13,"rows_kept":11,"cut":false,"hidden":false,"merged":[[1,0,1,5],[8,0,8,5],[9,0,9,5],[1,7,1,12]]}
[]
["Home ownership by race (proportions), 2023",null,null,null,null,null,null,"Home ownership by race (actual numbers), 2023"]
[]
["Status","Black","Coloured","Indian/Asian","White","Total b",null,"Status","Black","Coloured","Indian/Asian","White","Total"]
["Owned and fully paid off","84,8%a",{"$f":"(J5/Total1066456)","v":6.4516129032258063E-2},{"$f":"(K5/Total1066456)","v":2.0348837209302327E-2},{"$f":"(L5/Total1066456)","v":6.6860465116279064E-2},1,null,"Owned and fully paid off","9 046 000a",688000,217000,713000,10664000]
["Owned, but not yet paid off to bank",{"$f":"(I6/Total1037657)","v":0.47251687560270011},{"$f":"(J6/Total1037657)","v":0.1562198649951784},{"$f":"(K6/Total1037657)","v":6.4609450337512059E-2},{"$f":"(L6/Total1037657)","v":0.30665380906460943},1,null,"Owned, but not yet paid off to bank",490000,162000,67000,318000,{"$f":"SUM(I6:L6)","v":1037000}]
["Owned, but not yet paid off to\nprivate lender",{"$f":"(I7/Total16598)","v":0.47272727272727272},{"$f":"(J7/Total16598)","v":0.12121212121212122},{"$f":"(K7/Total16598)","v":4.2424242424242427E-2},{"$f":"(L7/Total16598)","v":0.36363636363636365},1,null,"Owned, but not yet paid off to private lender",78000,20000,7000,60000,{"$f":"SUM(I7:L7)","v":165000}]
["Total households",{"$f":"(I8/Total117589)","v":0.81021405696949267},{"$f":"(J8/Total117589)","v":7.3318725771110732E-2},{"$f":"(K8/Total117589)","v":2.4523849654474971E-2},{"$f":"(L8/Total117589)","v":9.1943367604921625E-2},{"$f":"SUM(B8:E8)","v":1},null,"Total households",9614000,{"$f":"SUM(J5:J7)","v":870000},{"$f":"SUM(K5:K7)","v":291000},{"$f":"SUM(L5:L7)","v":1091000},{"$f":"SUM(M5:M7)","v":11866000}]
["Source: Stats SA, General Household Survey 2023 Addendum tables, Statistical release P0318, 23 May 2024, Table 8.6, p123"]
["a The high levels of homes owned and fully paid off by Black South Africans can be attributed, in large part, to the provision of housing by the State. "]
["b Figures should add up horizontally to 100% but may not, owing to rounding."]

{"sheet":"Vertical Houses ownedf but","index":12,"n_rows":17,"n_cols":7,"rows_kept":17,"cut":false,"hidden":false,"merged":[[1,1,1,6],[4,1,5,1],[7,1,7,6],[8,1,8,6]]}
[]
[null,"Houses owned, but not yet paid off to bank/financial institution or private lender, 2023"]
[]
[null,"Status","Black","Coloured","Indian/Asian","White","Total"]
[null,"Owned, but not yet paid off to banka",568000,182000,74000,378000,1202000]
[null,null,{"$f":"(C5/C7)","v":3.6090989960604905E-2},{"$f":"(D5/D7)","v":0.14252153484729835},{"$f":"(E5/E7)","v":0.16666666666666666},{"$f":"(F5/F7)","v":0.24450194049159121},{"$f":"(G5/G7)","v":6.3246514075243357E-2}]
[null,"Total households",15738000,1277000,444000,1546000,19005000]
[null,"Source: Stats SA, General Household Survey 2023 Addendum tables, Statistical release P0318, 23 May 2024, Table 8.6, p123"]
[null,"a Includes houses owned but not yet paid off to bank/financial institution or private lender."]
[]
[]
[]
[null,"Status","Black","Coloured","Indian/Asian","White","Total"]
[null,"Owned and fully paid off","8 894 000a",661000,170000,675000,10401000]
[null,"Owned, but not yet paid off to bank",509000,157000,98000,413000,{"$f":"SUM(C15:F15)","v":1177000}]
[null,"Owned, but not yet paid off to private lender",130000,20000,10000,45000,{"$f":"SUM(C16:F16)","v":205000}]
[null,"Total households",9533000,{"$f":"SUM(D14:D16)","v":838000},{"$f":"SUM(E14:E16)","v":278000},{"$f":"SUM(F14:F16)","v":1133000},{"$f":"SUM(G14:G16)","v":11783000}]

{"sheet":"Tenure","index":13,"n_rows":0,"n_cols":0,"rows_kept":0,"cut":false,"hidden":false,"merged":[]}

{"sheet":"Household tenure status by sex","index":14,"n_rows":17,"n_cols":8,"rows_kept":17,"cut":false,"hidden":false,"merged":[[16,0,16,6],[0,0,0,7],[2,0,2,7],[4,1,4,3],[4,4,4,6],[4,7,5,7],[15,0,15,7]]}
["Tenure"]
[]
["Household tenure status by sex (actual numbers), 2013  and 2023"]
[]
[null,"—2013—",null,null,"—2023—",null,null,"Change (total) "]
["Ownership","Male","Female","Totala","Male","Female","Totala"]
["Owned and fully paid off",4258000,4059000,8317000,5496000,5167000,{"$f":"SUM(E7:F7)","v":10663000},{"$f":"(G7-D7)/D7","v":0.28207286281110977}]
["Owned,  but not yet paid off to bank",869000,272000,1141000,756000,281000,{"$f":"SUM(E8:F8)","v":1037000},{"$f":"(G8-D8)/D8","v":-9.1148115687992984E-2}]
["Owned,  but not yet paid off to private lender",151000,82000,233000,126000,39000,165000,{"$f":"(G9-D9)/D9","v":-0.29184549356223177}]
["Rental"]
["Rented",2131000,912000,3043000,2800000,1473000,4273000,{"$f":"(G11-D11)/D11","v":0.40420637528754516}]
["Occupied rent-free",1222000,741000,1962000,1578000,916000,2495000,{"$f":"(G12-D12)/D12","v":0.27166156982670742}]
["Other/unspecified tenure status",91000,63000,155000,80000,52000,{"$f":"SUM(E13:F13)","v":132000},{"$f":"(G13-D13)/D13","v":-0.14838709677419354}]
["Rented from other",148000,91000,240000,127000,112000,239000,{"$f":"(G14-D14)/D14","v":-4.1666666666666666E-3}]
["Total householdsa",8881000,6226000,15107000,10963000,8042000,{"$f":"SUM(E15:F15)","v":19005000},{"$f":"(G15-D15)/D15","v":0.25802608062487586}]
["Source: Stats SA, General Household Survey 2013, Statistical release P0318, 18 June 2014, Table 8,6, p129; General Household Survey 2023 Addendum tables, Statistical release P0318, 23 May 2024, Table 8.6, p123"]
["a Figures should add up vertically and horizontally but may not, owing to rounding."]

{"sheet":"Graph Household tenure status","index":15,"n_rows":8,"n_cols":3,"rows_kept":8,"cut":false,"hidden":false,"merged":[]}
[]
[]
[null,null,"Change in household tenure status, 2013-23"]
[null,"Owned and fully paid off",0.28199999999999997]
[null,"Owned,  but not yet paid off to bank",-9.0999999999999998E-2]
[null,"Rented",-0.29199999999999998]
[null,"Other/unspecified tenure status",7.6999999999999999E-2]
[null,"Total households",0.25800000000000001]

{"sheet":"Tenure status by sex %","index":16,"n_rows":16,"n_cols":19,"rows_kept":16,"cut":false,"hidden":false,"merged":[[1,14,1,18],[3,15,3,17],[3,18,4,18],[14,14,14,18],[14,0,14,6],[3,8,3,10],[3,11,4,11],[1,0,1,6],[3,1,3,3],[3,4,3,6]]}
[]
[" Tenure status by sex (proportionsa), 2013 and 2023",null,null,null,null,null,null,null,null,null,null,null,null,null,"Household tenure status by sex (actual numbers), 2013  and 2023"]
[]
[null,"—2013—",null,null,"—2023—",null,null,null,"—2022—",null,null,"Change (total) ",null,null,null,"—2023—",null,null,"Change (total) "]
["Ownership","Male","Female","Total","Male","Female","Total",null,"Male","Female","Totala",null,null,null,"Ownership","Male","Female","Totala"]
["Owned and fully paid off",0.5121,0.48799999999999999,0.55100000000000005,{"$f":"(P6/R6)","v":0.5154271780924693},{"$f":"(Q6/R6)","v":0.4845728219075307},{"$f":"SUM(E6:F6)","v":1},null,5304000,5097000,{"$f":"SUM(I6:J6)","v":10401000},{"$f":"(K6-H6)/H6","v":{"$error":"#DIV/0!"}},null,null,"Owned and fully paid off",5496000,5167000,{"$f":"SUM(P6:Q6)","v":10663000},{"$f":"(R6-#REF!)/#REF!","v":{"$error":"#REF!"}}]
["Owned,  but not yet paid off to bank",0.76200000000000001,0.23799999999999999,7.5999999999999998E-2,{"$f":"(P7/R7)","v":0.72902603664416588},{"$f":"(Q7/R7)","v":0.27097396335583412},{"$f":"SUM(E7:F7)","v":1},null,886000,291000,{"$f":"SUM(I7:J7)","v":1177000},{"$f":"(K7-H7)/H7","v":{"$error":"#DIV/0!"}},null,null,"Owned,  but not yet paid off to bank",756000,281000,{"$f":"SUM(P7:Q7)","v":1037000},{"$f":"(R7-#REF!)/#REF!","v":{"$error":"#REF!"}}]
["Owned,  but not yet paid off to private lender",0.64800000000000002,0.35199999999999998,1.4999999999999999E-2,{"$f":"(P8/R8)","v":0.76363636363636367},{"$f":"(Q8/R8)","v":0.23636363636363636},1,null,143000,62000,206000,{"$f":"(K8-H8)/H8","v":{"$error":"#DIV/0!"}},null,null,"Owned,  but not yet paid off to private lender",126000,39000,165000,{"$f":"(R8-#REF!)/#REF!","v":{"$error":"#REF!"}}]
["Rental",null,null,null,null,null,null,null,null,null,null,null,null,null,"Rental"]
["Rented",0.7,0.3,0.20100000000000001,{"$f":"(P10/R10)","v":0.65527732272408146},{"$f":"(Q10/R10)","v":0.34472267727591854},1,null,2567000,1248000,3816000,{"$f":"(K10-H10)/H10","v":{"$error":"#DIV/0!"}},null,null,"Rented",2800000,1473000,4273000,{"$f":"(R10-#REF!)/#REF!","v":{"$error":"#REF!"}}]
["Occupied rent-free",0.623,0.378,0.13,{"$f":"(P11/R11)","v":0.63246492985971947},{"$f":"(Q11/R11)","v":0.36713426853707415},0.99959919839679356,null,1478000,929000,2408000,{"$f":"(K11-H11)/H11","v":{"$error":"#DIV/0!"}},null,null,"Occupied rent-free",1578000,916000,2495000,{"$f":"(R11-#REF!)/#REF!","v":{"$error":"#REF!"}}]
["Other/unspecified tenure status",0.58699999999999997,0.40600000000000003,0.01,{"$f":"(P12/R12)","v":0.60606060606060608},{"$f":"(Q12/R12)","v":0.39393939393939392},1,null,115000,52000,{"$f":"SUM(I12:J12)","v":167000},{"$f":"(K12-H12)/H12","v":{"$error":"#DIV/0!"}},null,null,"Other/unspecified tenure status",80000,52000,{"$f":"SUM(P12:Q12)","v":132000},{"$f":"(R12-#REF!)/#REF!","v":{"$error":"#REF!"}}]
["Rented from other",0.61699999999999999,0.379,1.6E-2,{"$f":"(P13/R13)","v":0.53138075313807531},{"$f":"(Q13/R13)","v":0.46861924686192469},1,null,189000,115000,303000,{"$f":"(K13-H13)/H13","v":{"$error":"#DIV/0!"}},null,null,"Rented from other",127000,112000,239000,{"$f":"(R13-#REF!)/#REF!","v":{"$error":"#REF!"}}]
["Total households",0.58799999999999997,0.41199999999999998,1,{"$f":"(P14/R14)","v":0.57684819784267294},{"$f":"(Q14/R14)","v":0.42315180215732701},1,null,10683000,7794000,{"$f":"SUM(I14:J14)","v":18477000},{"$f":"(K14-H14)/H14","v":{"$error":"#DIV/0!"}},null,null,"Total householdsa",10963000,8042000,{"$f":"SUM(P14:Q14)","v":19005000},{"$f":"(R14-#REF!)/#REF!","v":{"$error":"#REF!"}}]
["Source: Stats SA, General Household Survey 2013, Statistical release P0318, 18 June 2014, Table 8,6, p129; General Household Survey 2023 Addendum tables, Statistical release P0318, 23 May 2024, Table 8.6, p123",null,null,null,null,null,null,null,null,null,null,null,null,null,"Source: Stats SA, General Household Survey 2013, Statistical release P0318, 18 June 2014, Table 8,6, p129; General Household Survey 2023 Addendum tables, Statistical release P0318, 23 May 2024, Table 8.6, p123"]
["a CRA calculations."]

{"sheet":"Tenure status by prov#","index":17,"n_rows":16,"n_cols":11,"rows_kept":16,"cut":false,"hidden":false,"merged":[[1,0,1,10],[13,0,13,10]]}
[]
["Household tenure status by province (actual numbers), 2023"]
[]
["Ownership","Eastern Cape","Free State","Gauteng ","KwaZulu-Natal","Limpopo","Mpumalanga ","North West","Northern Cape","Western Cape","South Africab"]
["Owned and fully paid off",1147000,632000,2050000,2326000,1234000,1041000,936000,253000,1045000,10663000]
["Owned, but not yet paid off to bank",48000,26000,517000,102000,22000,29000,25000,9000,260000,1037000]
["Owned, but not yet paid off to private lender",6000,4000,81000,21000,"—a",4000,"—a",4000,42000,165000]
["Rental"]
["Rented",203000,146000,2078000,539000,253000,227000,247000,47000,532000,4273000]
["Occupied rent-free",325000,173000,902000,264000,247000,177000,168000,51000,187000,2495000]
["Other/unspecified tenure status ",13000,"—a",75000,9000,"—a","—a","—a",6000,10000,112000]
["Rented from other",19000,17000,77000,27000,12000,12000,8000,10000,58000,132000]
["Total households",1761000,999000,5779000,3292000,1775000,1493000,1390000,380000,2136000,19004000]
["Source: Stats SA, General Household Survey 2023 Addendum tables, Statistical release P0318, 23 May 2024, Table 8.5, p122"]
["a Figures are too small to provide reliable estimates."]
["b Figures should add up vertically and horizontally but may not, owing to rounding."]

{"sheet":"% Household tenure status by pr","index":18,"n_rows":17,"n_cols":34,"rows_kept":17,"cut":false,"hidden":false,"merged":[[1,0,1,10],[15,0,15,4],[17,0,17,6],[13,0,13,9],[1,23,1,33],[13,23,13,33]]}
[]
["Household tenure status by province (proportionsa), 2023",null,null,null,null,null,null,null,null,null,null,null,null,null,null,null,null,null,null,null,null,null,null,"Household tenure status by province (actual numbers), 2023"]
[]
["Ownership","Eastern Cape","Free State","Gauteng ","KwaZulu-Natal","Limpopo","Mpumalanga ","North West","Northern Cape","Western Cape","South Africa",null,"Ownership","Eastern Cape","Free State","Gauteng ","KwaZulu-Natal","Limpopo","Mpumalanga ","North West","Northern Cape","Western Cape","South Africab","Ownership","Eastern Cape","Free State","Gauteng ","KwaZulu-Natal","Limpopo","Mpumalanga ","North West","Northern Cape","Western Cape","South Africab"]
["Owned and fully paid off",{"$f":"(Y5/total1761)","v":0.65133446905167514},{"$f":"(Z5/total999)","v":0.63263263263263259},{"$f":"(AA5/total5779)","v":0.35473265270808096},{"$f":"(AB5/total3292)","v":0.70656136087484811},{"$f":"(AC5/total1775)","v":0.69521126760563379},{"$f":"(AD5/total1493)","v":0.69725385130609507},{"$f":"(AE5/total1290)","v":0.67338129496402876},{"$f":"(AF5/total380)","v":0.66578947368421049},{"$f":"(AG5/total2136)","v":0.48923220973782772},{"$f":"(AH5/total190004)","v":0.56109240159966323},null,"Owned and fully paid off",1181000,613000,2140000,1988000,1256000,1046000,944000,255000,978000,{"$f":"SUM(N5:V5)","v":10401000},"Owned and fully paid off",1147000,632000,2050000,2326000,1234000,1041000,936000,253000,1045000,10663000]
["Owned, but not yet paid off to bank",{"$f":"(Y6/total1761)","v":2.7257240204429302E-2},{"$f":"(Z6/total999)","v":2.6026026026026026E-2},{"$f":"(AA6/total5779)","v":8.9461844609794089E-2},{"$f":"(AB6/total3292)","v":3.0984204131227218E-2},{"$f":"(AC6/total1775)","v":1.2394366197183098E-2},{"$f":"(AD6/total1493)","v":1.9423978566644341E-2},{"$f":"(AE6/total1290)","v":1.7985611510791366E-2},{"$f":"(AF6/total380)","v":2.368421052631579E-2},{"$f":"(AG6/total2136)","v":0.12172284644194757},{"$f":"(AH6/total190004)","v":5.4567459482214267E-2},null,"Owned, but not yet paid off to bank",50000,18000,564000,147000,19000,26000,30000,13000,309000,1177000,"Owned, but not yet paid off to bank",48000,26000,517000,102000,22000,29000,25000,9000,260000,1037000]
["Owned, but not yet paid off to private lender",{"$f":"(Y7/total1761)","v":3.4071550255536627E-3},{"$f":"(Z7/total999)","v":4.004004004004004E-3},{"$f":"(AA7/total5779)","v":1.4016265789929053E-2},{"$f":"(AB7/total3292)","v":6.3791008505467801E-3},"—b",{"$f":"(AD7/total1493)","v":2.6791694574681848E-3},"—b",{"$f":"(AF7/total380)","v":1.0526315789473684E-2},{"$f":"(AG7/total2136)","v":1.9662921348314606E-2},{"$f":"(AH7/total190004)","v":8.6823826562828881E-3},null,"Owned, but not yet paid off to private lender",6000,11000,84000,39000,13000,15000,5000,4000,29000,{"$f":"SUM(N7:V7)","v":206000},"Owned, but not yet paid off to private lender",6000,4000,81000,21000,"—a",4000,"—a",4000,42000,165000]
["Rental",null,null,null,null,null,null,null,null,null,null,null,"Rental",null,null,null,null,null,null,null,null,null,null,"Rental"]
["Rented",{"$f":"(Y9/total1761)","v":0.11527541169789893},{"$f":"(Z9/total999)","v":0.14614614614614616},{"$f":"(AA9/total5779)","v":0.35957778162311821},{"$f":"(AB9/total3292)","v":0.16373025516403403},{"$f":"(AC9/total1775)","v":0.14253521126760563},{"$f":"(AD9/total1493)","v":0.1520428667113195},{"$f":"(AE9/total1290)","v":0.1776978417266187},{"$f":"(AF9/total380)","v":0.12368421052631579},{"$f":"(AG9/total2136)","v":0.24906367041198502},{"$f":"(AH9/total190004)","v":0.22484740054725322},null,"Rented",179000,145000,1879000,457000,252000,180000,226000,46000,452000,3816000,"Rented",203000,146000,2078000,539000,253000,227000,247000,47000,532000,4273000]
["Occupied rent-free",{"$f":"(Y10/total1761)","v":0.1845542305508234},{"$f":"(Z10/total999)","v":0.17317317317317318},{"$f":"(AA10/total5779)","v":0.15608236719155563},{"$f":"(AB10/total3292)","v":8.0194410692588092E-2},{"$f":"(AC10/total1775)","v":0.13915492957746478},{"$f":"(AD10/total1493)","v":0.11855324849296718},{"$f":"(AE10/total1290)","v":0.12086330935251799},{"$f":"(AF10/total380)","v":0.13421052631578947},{"$f":"(AG10/total2136)","v":8.7546816479400755E-2},{"$f":"(AH10/total190004)","v":0.13128814986318671},null,"Occupied rent-free",292000,167000,762000,512000,165000,163000,133000,46000,168000,2408000,"Occupied rent-free",325000,173000,902000,264000,247000,177000,168000,51000,187000,2495000]
["Other/unspecified tenure status ",{"$f":"(Y11/total1761)","v":7.3821692220329355E-3},"—b",{"$f":"(AA11/total5779)","v":1.2978023879563939E-2},{"$f":"(AB11/total3292)","v":2.7339003645200487E-3},"—b","—b","—b",{"$f":"(AF11/total380)","v":1.5789473684210527E-2},{"$f":"(AG11/total2136)","v":4.6816479400749065E-3},{"$f":"(AH11/total190004)","v":5.8934961060829296E-3},null,"Other/unspecified tenure status ",13000,4000,81000,21000,6000,5000,"—a","—a",31000,167000,"Other/unspecified tenure status ",13000,"—a",75000,9000,"—a","—a","—a",6000,10000,112000]
["Rented from other",{"$f":"(Y12/total1761)","v":1.0789324247586598E-2},{"$f":"(Z12/total999)","v":1.7017017017017019E-2},{"$f":"(AA12/total5779)","v":1.332410451635231E-2},{"$f":"(AB12/total3292)","v":8.2017010935601462E-3},{"$f":"(AC12/total1775)","v":6.7605633802816905E-3},{"$f":"(AD12/total1493)","v":8.0375083724045539E-3},{"$f":"(AE12/total1290)","v":5.7553956834532375E-3},{"$f":"(AF12/total380)","v":2.6315789473684209E-2},{"$f":"(AG12/total2136)","v":2.7153558052434457E-2},{"$f":"(AH12/total190004)","v":6.9459061250263104E-3},null,"Rented from other",19000,17000,77000,37000,15000,11000,10000,7000,111000,303000,"Rented from other",19000,17000,77000,27000,12000,12000,8000,10000,58000,132000]
["Total householdsc ",1,1,1,1,1,1,1,1,1,1,null,"Total households",1742000,{"$f":"SUM(O5:O12)","v":975000},{"$f":"SUM(P5:P12)","v":5587000},3200000,1729000,1445000,1349000,{"$f":"(U5+U6+U7+U9+U10+U12)","v":371000},2079000,18477000,"Total households",1761000,999000,5779000,3292000,1775000,1493000,1390000,380000,2136000,19004000]
["Source: Stats SA, General Household Survey 2023 Addendum tables, Statistical release P0318, 23 May 2024, Table 8.5, p122",null,null,null,null,null,null,null,null,null,null,null,null,null,null,null,null,null,null,null,null,null,null,"Source: Stats SA, General Household Survey 2023 Addendum tables, Statistical release P0318, 23 May 2024, Table 8.5, p122"]
["a CRA calculations."]
["b Proportions are too small to provide reliable estimates. "]
["c Figures should add up vertically but may not, owing to rounding."]

{"sheet":"Land redistributed  ","index":19,"n_rows":22,"n_cols":6,"rows_kept":22,"cut":false,"hidden":false,"merged":[[4,1,6,2],[19,1,19,2],[20,1,20,2],[21,1,21,2],[1,1,1,2]]}
[]
[null,"Land"]
[]
[]
[null,"Land redistributedab to black South Africans by province, 31 March 2022  "]
[]
[]
[]
[null,"Province","Hectares",null,null,"Land redistributedab to Black South Africans by province, 31 March 2022  "]
[null,"Eastern Cape",569189,null,"Eastern Cape",569189]
[null,"Free State",434799,null,"Free State",434799]
[null,"Gauteng",63575,null,"Gauteng",63575]
[null,"KwaZulu-Natal",621674,null,"KwaZulu-Natal",621674]
[null,"Limpopo",197973,null,"Limpopo",197973]
[null,"Mpumalanga",498426,null,"Mpumalanga",498426]
[null,"North West",594297,null,"North West",594297]
[null,"Northern Cape",1622208,null,"Northern Cape",1622208]
[null,"Western Cape",596453,null,"Western Cape",596453]
[null,"Total",{"$f":"SUM(C10:C18)","v":5198594},null,"Total",{"$f":"SUM(F10:F18)","v":5198594}]
[null,"Source: Reply by the Minister of Agriculture, Land Reform and Rural Development to parliamentary question 2205 by Mr N.S. Matiase (EFF)"]
[null,"a The extent of land that has been redistributed to Black people in total as a result of the land redistribution programme."]
[null,"b Since 27 April 1994, the cost for the Department of Agriculture, Land Reform and Rural Development to buy land for redistribution purposes amounted to R 19.8 trillion."]

{"sheet":"Title deeds Custodianship Lease","index":20,"n_rows":21,"n_cols":5,"rows_kept":21,"cut":false,"hidden":false,"merged":[[20,1,20,4],[1,1,3,4],[6,2,6,4],[17,1,17,4],[18,1,18,4],[19,1,19,4]]}
[]
[null,"Department of Agriculture, Land Reform and Rural Development (DALRRD): custodianship, long-term leases, and title deeds by province, as at 18 March 2022 "]
[]
[]
[]
[null,null,"Land under custodianship of the DALRRDa","Land under custodianship subject to long-term leasesb","Land with title deeds transferred over to individual/businesses/communitiesc"]
[null,"Province","—Hectares—"]
[null,"Eastern Cape",1759362,187047,7500]
[null,"Free State",394955,135977,2154]
[null,"Gauteng",98003,35412,359]
[null,"KwaZulu-Natal",822401,70744,23061]
[null,"Limpopo",2636848,98232,25472]
[null,"Mpumalanga",928663,177062,16225]
[null,"North West",1979980,333797,31167]
[null,"Northern Cape",1728766,182928,4550]
[null,"Western Cape",105675,67486,2499]
[null,"South Africa",10454652,1289583,112988]
[null,"Source: Reply by the Minister of Agriculture, Land Reform and Rural Development to parliamentary question 990 by Mrs A Steyn (DA)."]
[null,"a The Department of Agriculture, Land Reform and Rural Development is the custodian of a total of 10 454 652 hectares (ha) of land."]
[null,"b  A total of 1 289 583 hectares under the custodianship of the Department of Agriculture, Land Reform and Rural Development are subject to active long-term\nagricultural leases in the past five years."]
[null,"c  The past five years 8 173 ha was transferred to individuals and businesses, while 104 850 ha was transferred to communities by the DALRRD."]

{"sheet":"Title deed targets achieved","index":21,"n_rows":11,"n_cols":5,"rows_kept":11,"cut":false,"hidden":false,"merged":[[1,1,2,4],[9,1,9,4],[10,1,10,4]]}
[]
[null,"Department of Human Settlements: number of title deeds and category targets achieved"]
[]
[]
[null,"Categorya","Target","Achieved","Proportion of target achieved"]
[null,"Pre 1994 category target",45535,11891,{"$f":"(D6/C6)","v":0.26113978258482484}]
[null,"Post 1994 category target",500845,62162,{"$f":"(D7/C7)","v":0.12411424692270064}]
[null,"Post 2014 category target",346842,16938,4.8834916186620995E-2]
[null,"New category target",300000,22170,7.3899999999999993E-2]
[null,"Source: Reply by the Minister of Human Settlements to parliamentary question PQ520 by Mr C.J. Poole (DA)."]
[null,"a The Human Settlements sector title deeds programme has different categories with different targets. "]

{"sheet":"Non-fixed assets","index":22,"n_rows":0,"n_cols":0,"rows_kept":0,"cut":false,"hidden":false,"merged":[]}

{"sheet":"Households owning a particular ","index":23,"n_rows":30,"n_cols":11,"rows_kept":30,"cut":false,"hidden":false,"merged":[[0,0,0,10],[2,0,2,10],[4,0,4,10],[28,0,28,9]]}
["Non-fixed assets"]
[]
["Various non-fixed assets"]
[]
["Households owning a particular asset by province (actual numbers), 2023"]
[]
["Type of asset","Eastern Cape","Free State","Gauteng","KwaZulu-Natal","Limpopo","Mpumalanga"," North West","Northern Cape","Western Cape","South Africa"]
["Television set",1304000,810000,4656000,2447000,1377000,1147000,1015000,292000,1845000,14894000]
["Swimming pool",27000,22000,380000,93000,21000,24000,26000,10000,163000,767000]
["DVD player/Blu ray player",382000,345000,1373000,783000,442000,276000,370000,119000,641000,4732000]
["Pay TV (M-Net/DStv/StarSat) subscription",941000,611000,3324000,1789000,1193000,1005000,738000,245000,1197000,11042000]
["Air conditioner",40000,53000,395000,270000,112000,53000,44000,33000,267000,1265000]
["Computer/Desktop/Laptop",267000,208000,1851000,544000,311000,311000,259000,97000,868000,{"$f":"SUM(B13:J13)","v":4716000}]
["Vacuum cleaner/floor polisher",121000,95000,725000,167000,45000,66000,68000,34000,597000,1917000]
["Dish washing machine",37000,35000,464000,132000,26000,41000,35000,12000,302000,1084000]
["Washing machine",505000,396000,2642000,672000,532000,534000,560000,223000,1374000,7439000]
["Tumble dryer",47000,66000,532000,183000,70000,78000,43000,11000,308000,1337000]
["Deep freezer-free standing",266000,226000,839000,837000,633000,390000,279000,145000,714000,4330000]
["Refrigerator or combined fridge freezer ",1378000,828000,4762000,2700000,1263000,1143000,1055000,303000,1889000,15322000]
["Electric stove",1535000,890000,5053000,2985000,1543000,1309000,1229000,336000,1853000,16734000]
["Gas stove",667000,276000,2033000,894000,203000,264000,339000,148000,968000,5792000]
["Solar hot water geyser",37000,34000,305000,50000,23000,15000,24000,17000,113000,618000]
["Solar electric panel",27000,18000,253000,29000,14000,19000,36000,15000,67000,478000]
["Geyser providing hot running water",290000,220000,2211000,712000,266000,267000,250000,86000,1021000,5323000]
["Rain water tank",617000,26000,91000,375000,285000,123000,144000,18000,165000,1843000]
["Home security service",99000,65000,1100000,283000,75000,61000,74000,20000,353000,2130000]
["Microwave oven",958000,680000,3685000,1713000,694000,766000,719000,226000,1635000,11076000]
["Total householdsa ",1761000,999000,5779000,3292000,1755000,1493000,1390000,380000,2136000,19005000]
["Source: Stats SA, General Household Survey 2023 Addendum tables, Statistical release P0318, 23 May 2024 , Table 8.5, p122"]
["a Figures do not add up vertically as households typically have more than one asset."]

{"sheet":"Households owning a particu (2)","index":24,"n_rows":38,"n_cols":34,"rows_kept":38,"cut":false,"hidden":false,"merged":[[0,0,0,10],[2,0,2,10],[4,0,4,11],[36,0,36,9]]}
["Non-fixed assets"]
[]
["Various non-fixed assets"]
[]
["Households owning a particular asset by province (proportions), 2023"]
[]
["Type of asset","Eastern Cape","Free State","Gauteng","KwaZulu-Natal","Limpopo","Mpumalanga"," North West","Northern Cape","Western Cape","South Africa",null,"Type of asset","Eastern Cape","Free State","Gauteng","KwaZulu-Natal","Limpopo","Mpumalanga"," North West","Northern Cape","Western Cape","South Africa","Type of asset","Eastern Cape","Free State","Gauteng","KwaZulu-Natal","Limpopo","Mpumalanga"," North West","Northern Cape","Western Cape","South Africa"]
["Television set",{"$f":"(Y8/Total1765)","v":0.74048835888699605},{"$f":"(Z8/Total998)","v":0.81081081081081086},{"$f":"(AA8/Total5778)","v":0.8056757224433293},{"$f":"(AB8/Total3291)","v":0.74331713244228437},{"$f":"(AC8/Total1754)","v":0.7846153846153846},{"$f":"(AD8/Total1492)","v":0.76825184192900198},{"$f":"(AE8/Total1398)","v":0.73021582733812951},{"$f":"(AF8/Total379)","v":0.76842105263157889},{"$f":"(AG8/Total2135)","v":0.8637640449438202},{"$f":"(AH8/Total19004)","v":0.78368850302551962},null,"Television set",1378000,797000,4618000,2566000,1370000,1155000,982000,292000,1898000,15055000,"Television set",1304000,810000,4656000,2447000,1377000,1147000,1015000,292000,1845000,14894000]
["Swimming pool",1.5332197614991482E-2,2.2022022022022022E-2,6.5755320989790617E-2,2.8250303766707167E-2,1.1965811965811967E-2,1.6075016744809108E-2,1.870503597122302E-2,2.6315789473684209E-2,7.631086142322098E-2,4.0357800578795053E-2,null,"Swimming pool",37000,18000,389000,122000,19000,17000,32000,8000,125000,{"$f":"SUM(N9:V9)","v":767000},"Swimming pool",27000,22000,380000,93000,21000,24000,26000,10000,163000,767000]
["DVD player/Blu ray player",0.21692220329358319,0.34534534534534533,0.23758435715521717,0.23784933171324424,0.25185185185185183,0.18486269256530474,0.26618705035971224,0.31315789473684208,0.30009363295880148,0.24898710865561693,null,"DVD player/Blu ray player",455000,334000,1694000,948000,544000,352000,355000,114000,635000,5430000,"DVD player/Blu ray player",382000,345000,1373000,783000,442000,276000,370000,119000,641000,4732000]
["Pay TV (M-Net/DStv/StarSat) subscription",0.5343554798409994,0.61161161161161159,0.57518601834227379,0.54343863912515189,0.67977207977207976,0.67314132618888145,0.53093525179856116,0.64473684210526316,0.5603932584269663,0.58100499868455668,null,"Pay TV (M-Net/DStv/StarSat) subscription",984000,585000,3238000,1734000,1137000,968000,687000,237000,1224000,10793000,"Pay TV (M-Net/DStv/StarSat) subscription",941000,611000,3324000,1789000,1193000,1005000,738000,245000,1197000,11042000]
["Air conditioner",2.2714366837024418E-2,5.3053053053053051E-2,6.835092576570341E-2,8.2017010935601459E-2,6.3817663817663822E-2,3.5498995311453452E-2,3.1654676258992806E-2,8.6842105263157901E-2,0.125,6.6561431202315183E-2,null,"Air conditioner",48000,48000,401000,358000,107000,60000,54000,36000,255000,1367000,"Air conditioner",40000,53000,395000,270000,112000,53000,44000,33000,267000,1265000]
["Computer/Desktop/Laptop",0.151618398637138,0.20820820820820821,0.320297629347638,0.1652490886998785,0.17720797720797721,0.20830542531815138,0.18633093525179856,0.25526315789473686,0.40636704119850187,0.24814522494080504,null,"Computer/Desktop/Laptop",262000,225000,1880000,603000,292000,280000,252000,88000,853000,4735000,"Computer/Desktop/Laptop",267000,208000,1851000,544000,311000,311000,259000,97000,868000,{"$f":"SUM(Y13:AG13)","v":4716000}]
["Vacuum cleaner/floor polisher",6.8710959681998862E-2,9.5095095095095089E-2,0.12545423083578475,5.0729040097205344E-2,2.564102564102564E-2,4.4206296048225048E-2,4.8920863309352518E-2,8.9473684210526316E-2,0.2794943820224719,0.10086819258089977,null,"Vacuum cleaner/floor polisher",142000,111000,670000,231000,61000,73000,85000,37000,605000,2015000,"Vacuum cleaner/floor polisher",121000,95000,725000,167000,45000,66000,68000,34000,597000,1917000]
["Dish washing machine",2.1010789324247586E-2,3.5035035035035036E-2,8.0290707734902239E-2,4.0097205346294046E-2,1.4814814814814815E-2,2.7461486939048894E-2,2.5179856115107913E-2,3.1578947368421054E-2,0.14138576779026218,5.7037621678505658E-2,null,"Dish washing machine",48000,47000,358000,156000,46000,42000,42000,14000,311000,{"$f":"SUM(N15:V15)","v":1064000},"Dish washing machine",37000,35000,464000,132000,26000,41000,35000,12000,302000,1084000]
["Washing machine",0.28676888131743328,0.3963963963963964,0.45717252119743901,0.20413122721749696,0.30313390313390315,0.35766912257200267,0.40287769784172661,0.58684210526315794,0.6432584269662921,0.39142330965535388,null,"Washing machine",529000,419000,2590000,664000,530000,552000,538000,217000,1363000,7401000,"Washing machine",505000,396000,2642000,672000,532000,534000,560000,223000,1374000,7439000]
["Tumble dryer",2.6689381033503691E-2,6.6066066066066062E-2,9.2057449385706869E-2,5.5589307411907658E-2,3.9886039886039885E-2,5.2243804420629605E-2,3.0935251798561152E-2,2.8947368421052631E-2,0.14419475655430711,7.0349907918968696E-2,null,"Tumble dryer",66000,53000,462000,176000,112000,71000,50000,16000,371000,1377000,"Tumble dryer",47000,66000,532000,183000,70000,78000,43000,11000,308000,1337000]
["Deep freezer-free standing",0.15105053946621239,0.22622622622622623,0.14518082713272193,0.25425273390036451,0.36068376068376068,0.26121902210314801,0.20071942446043164,0.38157894736842107,0.3342696629213483,0.22783478032096816,null,"Deep freezer-free standing",252000,232000,837000,801000,603000,397000,256000,140000,688000,4207000,"Deep freezer-free standing",266000,226000,839000,837000,633000,390000,279000,145000,714000,4330000]
["Refrigerator or combined fridge freezer ",0.78250993753549125,0.8288288288288288,0.824017996193113,0.82017010935601453,0.71965811965811965,0.76557267247153382,0.75899280575539574,0.79736842105263162,0.88436329588014984,0.80620889239673765,null,"Refrigerator or combined fridge freezer ",1418000,811000,4618000,2781000,1271000,1149000,999000,297000,1901000,15244000,"Refrigerator or combined fridge freezer ",1378000,828000,4762000,2700000,1263000,1143000,1055000,303000,1889000,15322000]
["Electric stove",0.87166382737081205,0.89089089089089091,0.87437272884582107,0.90674362089914951,0.87920227920227922,0.8767582049564635,0.88417266187050358,0.88421052631578945,0.86750936329588013,0.8805051302288871,null,"Electric stove",1508000,874000,4912000,2938000,1475000,1281000,1160000,325000,1813000,16288000,"Electric stove",1535000,890000,5053000,2985000,1543000,1309000,1229000,336000,1853000,16734000]
["Gas stove",0.37876206700738219,0.27627627627627627,0.35179096729537984,0.27156743620899149,0.11566951566951567,0.17682518419290019,0.24388489208633093,0.38947368421052631,0.45318352059925093,0.30476190476190479,null,"Microwave oven",1028000,669000,3662000,1815000,714000,763000,684000,223000,1624000,11181000,"Gas stove",667000,276000,2033000,894000,203000,264000,339000,148000,968000,5792000]
["Solar hot water geyser",2.1010789324247586E-2,3.4034034034034037E-2,5.2777297110226683E-2,1.5188335358444714E-2,1.3105413105413105E-2,1.0046885465505693E-2,1.7266187050359712E-2,4.4736842105263158E-2,5.2902621722846439E-2,3.2517758484609312E-2,null,"Total householdsa ",1742000,975000,5587000,3200000,1729000,1445000,1349000,371000,2079000,{"$f":"SUM(N22:V22)","v":18477000},"Solar hot water geyser",37000,34000,305000,50000,23000,15000,24000,17000,113000,618000]
["Solar electric panel",1.5332197614991482E-2,1.8018018018018018E-2,4.3779200553729018E-2,8.8092345078979346E-3,7.9772079772079778E-3,1.2726054922973878E-2,2.5899280575539568E-2,3.9473684210526314E-2,3.1367041198501873E-2,2.5151275980005262E-2,null,null,null,null,null,null,null,null,null,null,null,null,"Solar electric panel",27000,18000,253000,29000,14000,19000,36000,15000,67000,478000]
["Geyser providing hot running water",0.16467915956842702,0.22022022022022023,0.38259214396954488,0.21628189550425272,0.15156695156695157,0.17883456128600134,0.17985611510791366,0.22631578947368422,0.47799625468164791,0.28008418837148119,null,null,null,null,null,null,null,null,null,null,null,null,"Geyser providing hot running water",290000,220000,2211000,712000,266000,267000,250000,86000,1021000,5323000]
["Rain water tank",0.35036910846110164,2.6026026026026026E-2,1.5746668973870913E-2,0.11391251518833535,0.1623931623931624,8.238446081714669E-2,0.10359712230215827,4.736842105263158E-2,7.7247191011235949E-2,9.6974480399894758E-2,null,null,null,null,null,null,null,null,null,null,null,null,"Rain water tank",617000,26000,91000,375000,285000,123000,144000,18000,165000,1843000]
["Home security service",5.6218057921635436E-2,6.506506506506507E-2,0.19034435023360444,8.5965978128797083E-2,4.2735042735042736E-2,4.0857334226389819E-2,5.3237410071942444E-2,5.2631578947368418E-2,0.16526217228464418,0.11207576953433307,null,null,null,null,null,null,null,null,null,null,null,null,"Home security service",99000,65000,1100000,283000,75000,61000,74000,20000,353000,2130000]
["Microwave oven",0.54400908574673479,0.68068068068068066,0.63765357328257488,0.52035236938031593,0.39544159544159546,0.51306095110515737,0.51726618705035976,0.59473684210526312,0.7654494382022472,0.58279400157853201,null,null,null,null,null,null,null,null,null,null,null,null,"Microwave oven",958000,680000,3685000,1713000,694000,766000,719000,226000,1635000,11076000]
["Total householdsa ",1,1,1,1,1,1,1,1,1,1,null,null,null,null,null,null,null,null,null,null,null,null,"Total householdsa ",1761000,999000,5779000,3292000,1755000,1493000,1390000,380000,2136000,19005000]
[null,1761000,999000,5779000,3292000,1755000,1493000,1390000,380000,2136000,19005000,null,null,null,null,null,null,null,null,null,null,null,null,null,1761000]
[]
[]
[]
[]
[]
[]
[]
["Source: Stats SA, General Household Survey 2023 Addendum tables, Statistical release P0318, 23 May 2024, Table 8.5, p122"]
["a Figures do not add up vertically as households typically have more than one asset."]

{"sheet":"Motor vehicles","index":25,"n_rows":0,"n_cols":0,"rows_kept":0,"cut":false,"hidden":false,"merged":[]}

{"sheet":"Registered vehicles.2003&2024","index":26,"n_rows":23,"n_cols":9,"rows_kept":23,"cut":false,"hidden":false,"merged":[[1,0,1,6],[19,0,19,6],[20,0,20,2],[4,0,4,6],[2,0,2,6],[3,0,3,6],[5,1,5,2],[5,3,5,4],[5,5,6,5],[5,6,6,6]]}
[]
["Motor vehicles"]
[]
["Registered vehiclesa by province, 2003/04 and 2024"]
[]
[null,"—2003/04—",null,"—2024b—",null,"Change: Number","Change: Proportion"]
["Province","Registered \nvehicles","People per vehiclec","Registered \nvehicles","People per vehicle (2024)c"]
["Eastern Cape",513217,13.811987911546188,864045,{"$f":"(I8/D8)","v":8.3053891869057743},{"$f":"(D8-B8)","v":350828},{"$f":"(D8-B8)/B8","v":0.68358608541805899},null,7176230]
["Free State",453974,6.4996255292153293,648876,{"$f":"(I9/D9)","v":4.6912661278888415},{"$f":"(D9-B9)","v":194902},{"$f":"(D9-B9)/B9","v":0.42932414631674942},null,3044050]
["Gauteng",2831350,3.1249192081515886,5095612,3.1265771412737076,2264262,0.79971109188196443,null,15931824]
["KwaZulu-Natal",1031813,9.367855415661559,1785367,6.8964599435298179,753554,0.73032031967032784,null,12312712]
["Limpopo",332506,16.577030188928923,797743,8.0258855295502443,465237,1.3991837741273843,null,6402594]
["Mpumalanga",451389,7.1873838307978266,934471,5.4123263322243282,483082,1.0702121673323897,null,5057662]
["North West",428676,8.8819271431104152,669987,6.2020651146962553,241311,0.56292164711810322,null,4155303]
["Northern Cape",162893,5.5211028098199435,295828,4.6410177535595007,132935,0.81608786135684164,null,1372943]
["Western Cape",1273360,3.5894766601746562,2169186,3.4863713853952589,895826,0.70351353898347679,null,7562588]
["South Africa",7479178,6.2288405223140835,{"$f":"SUM(D8:D16)","v":13261115},{"$f":"(I17/D17)","v":4.7519310404894313},5781937,0.77307118509547434,null,63015904]
["— Motorised vehicles",6677242,6.9769235561628591,12005200,5.2490507446773069,5327958,0.79792794689783597,null,63015904]
["— Towed vehicles and other",801936,58.092674477763815,1225915,51.403159272869651,423979,0.5286943097703557,null,63015904]
["Source:  Road Traffic Management Corporation (RTMC), Road Traffic and Fatal Crash Statistics 2003-2004, June 2005, pp4, 9,14; Electronic National Administration Traffic Information System (eNaTis), www.enatis.com, accessed 13 August 2024"]
["a Motorised, towed and other."]
["b As at 30 June 2024."]
["c CRA calculations."]

{"sheet":"Graph registered vehicles by pr","index":27,"n_rows":11,"n_cols":3,"rows_kept":11,"cut":false,"hidden":false,"merged":[]}
[null,"2003/04","Registered \nvehicles"]
["EC",513217,864045]
["FS",453974,648876]
["GAU",2831350,5095612]
["KZN",1031813,1785367]
["LIM",332506,797743]
["MPU",451389,934471]
["NW",428676,669987]
["NC",162893,295828]
["WC",1273360,2169186]
["SA",7479178,{"$f":"SUM(C2:C10)","v":13261115}]

{"sheet":"Motorised vehicles.1999-2024","index":28,"n_rows":40,"n_cols":9,"rows_kept":40,"cut":false,"hidden":false,"merged":[[1,0,1,8],[29,0,29,8],[31,0,31,8],[30,0,30,3]]}
[]
["Motorised vehicles registereda , 1999-2024"]
[]
["Year","Motor cars","Minibuses","Buses","Motor cycles","Bakkies/\nloading vans","Trucks","Other","Total"]
[1999,3851048,253201,26127,158328,1263348,228838,211166,5992056]
[2001,3977255,244598,25820,158958,1332591,225134,195323,6159679]
[2003,4154593,241938,27221,162871,1406217,231302,193342,6417484]
[2005,4574972,256205,32308,237556,1564437,259651,203662,7128791]
["2007b",4992401,268660,37348,293164,1732256,285807,213677,7823313]
[2009,5411093,282941,45217,362400,1946292,321604,230484,8600031]
["2010b",5472090,282793,45858,367162,1965316,321729,231084,8686032]
["2011b",5675488,285858,47799,331271,2025074,326721,234337,8926548]
["2012b",5928532,284536,49679,345179,2101392,335527,221930,9266775]
["2013b",6202323,286458,52325,360068,2179564,344120,224445,9649303]
["2014b",6461553,290520,55090,368285,2254105,352906,228184,10010643]
["2015b",6707175,295139,57538,368529,2329710,361895,230849,10350835]
["2016b",6905939,300876,59843,364960,2397369,367975,272448,10669410]
["2017c",7140959,314988,62900,352549,2489364,372183,234625,10967568]
["2018d",7270100,323378,63919,348611,2533184,374491,234955,11148638]
["2019e",7424649,335392,64808,345513,2589676,378254,235181,11373473]
["2020f",7448021,341252,65159,338871,2603099,377412,233348,11447162]
["2021g",7656531,349399,64566,347658,2673889,388938,237541,11718522]
["2022h",7826452,356485,65329,356830,2713384,395972,242013,{"$f":"SUM(B23:H23)","v":11956465}]
["2023i",7770146,352636,64679,349356,2686547,389012,238223,{"$f":"SUM(B24:H24)","v":11850599}]
["2024j",7877714,356429,65184,352972,2716667,396277,239957,{"$f":"SUM(B25:H25)","v":12005200}]
["2023-24",{"$f":"(B25-B24)/B24","v":1.3843755316824163E-2},{"$f":"(C25-C24)/C24","v":1.0756133803695596E-2},7.8077892360735321E-3,1.0350473442562886E-2,1.1211417481250095E-2,1.8675516436510955E-2,7.2788941454015772E-3,1.30458384424281E-2]
["1999-2024",{"$f":"(B25-B5)/B5","v":1.0456026515379711},{"$f":"(C25-C5)/C5","v":0.40769191274915978},1.4948903433229992,1.2293719367389218,1.1503710774861717,0.73169228886810755,0.13634297187994279,1.0035193262546278]
["People per vehicle 2024",{"$f":"(B29/B25)","v":7.9992627302793675},{"$f":"(C29/C25)","v":176.79791487224665},966.73883161512026,178.52946975964099,23.196035436069273,159.01983713412588,262.61331821951433,5.2490507446773069]
[null,63015904,63015904,63015904,63015904,63015904,63015904,63015904,63015904]
["Source: RTMC, Road Traffic Report-March 2008, April 2008, pp10-11; Road Traffic Report for the Calendar Year 2009, 2010, p9; Road Traffic Report 31 March 2011, August 2011, p71; eNaTis, www.enatis.com, accessed 13 August 2024"]
["a Figures as at year-end (December)."]
["b  Figures for 2007, 2010, 2011, 2012, 2013, 2014, 2015 and 2016 are for March financial year ends."]
["c As at 30 September 2017."]
["d As at 30 June 2018."]
["e As at 30 June 2019."]
["f As at 31 May 2020."]
["g As at 31 October 2021."]
["h As at 30 September 2022."]
["i As at 30 June 2023."]
["j As at 30 June 2024."]

{"sheet":"Financial assets and services","index":29,"n_rows":0,"n_cols":0,"rows_kept":0,"cut":false,"hidden":false,"merged":[]}

{"sheet":"Saving+credit","index":30,"n_rows":0,"n_cols":0,"rows_kept":0,"cut":false,"hidden":false,"merged":[]}

{"sheet":"Households that have fallen beh","index":31,"n_rows":12,"n_cols":8,"rows_kept":12,"cut":false,"hidden":false,"merged":[[1,2,1,7],[10,2,10,7],[11,1,11,8],[3,1,3,8]]}
[]
[null,null,"Saving and credit"]
[]
[null,"Households that have fallen behind bills and card paymentsa, 2021-24"]
[]
[null,null,"Category",2021,2022,2023,2024,"Change 2021-24"]
[null,null,"Fallen behind on store card payments",0.28000000000000003,0.25,0.25,0.23,{"$f":"(G7-D7)/D7","v":-0.1785714285714286}]
[null,null,"Fallen behind on any household bills",0.34,0.35,0.31,0.3,{"$f":"(G8-D8)/D8","v":-0.11764705882352951}]
[null,null,"Fallen behind on credit card payments",0.27,0.26,0.25,0.23,-0.14814814814814817]
[null,null,"Fallen behind on rent or home loan payments",0.19,0.18,0.18,0.15,-0.21052631578947373]
[null,null,"Source: Old Mutual, Savings and Investment Monitor 2024, July 2024, p27"]
[null,"a  The annual monitor is a survey of 1 508 working people in South Africa’s major metropolitan areas. It examines levels of savings and investment, as well as people’s attitudes to their finances in general. Respondents were asked about household rather than personal income."]

{"sheet":"Credit granted by provider","index":32,"n_rows":13,"n_cols":13,"rows_kept":13,"cut":false,"hidden":false,"merged":[[10,0,10,8],[1,0,1,12],[3,7,3,12],[3,1,3,6]]}
[]
["Credit granteda by type of credit provider, 2014-24"]
[]
[null,"—Rbn—",null,null,null,null,null,"—Proportion—"]
["Credit provider",2014,2019,2020,2022,2023,"2024b",2014,2019,2020,2022,2023,"2024b"]
["Banks",89.1,115.9,128,132.6,116,105.3,{"$f":"B6/Total333","v":0.75765306122448983},{"$f":"C6/Total4444","v":0.79711141678129305},{"$f":"(D6/Total144)","v":0.82901554404145072},{"$f":"(E6/Total1636)","v":0.81051344743276288},{"$f":"(F6/Total1418)","v":0.78325455773126273},{"$f":"(G6/G10)","v":0.79471698113207545}]
["Non-bank vehicle financiers ",10.5,11.9,11.9,12.5,11.3,9.1,{"$f":"B7/Total333","v":8.9285714285714288E-2},{"$f":"C7/Total4444","v":8.1843191196698764E-2},{"$f":"(D7/Total144)","v":7.7072538860103623E-2},{"$f":"(E7/Total1636)","v":7.6405867970660152E-2},{"$f":"(F7/Total1418)","v":7.6299797434166108E-2},{"$f":"(G7/G10)","v":6.8679245283018872E-2}]
["Retailers ",5.6,6.2,4.0999999999999996,6.9,6.7,8.6,{"$f":"B8/Total333","v":4.7619047619047616E-2},{"$f":"C8/Total4444","v":4.264099037138927E-2},{"$f":"(D8/Total144)","v":2.6554404145077717E-2},{"$f":"(E8/Total1636)","v":4.2176039119804408E-2},{"$f":"(F8/Total1418)","v":4.5239702903443625E-2},{"$f":"(G8/G10)","v":6.4905660377358482E-2}]
["Other credit providers ",12.4,11.4,10.4,11.6,14.1,9.5,{"$f":"B9/Total333","v":0.10544217687074831},{"$f":"C9/Total4444","v":7.8404401650618988E-2},{"$f":"(D9/Total144)","v":6.7357512953367879E-2},{"$f":"(E9/Total1636)","v":7.090464547677261E-2},{"$f":"(F9/Total1418)","v":9.5205941931127622E-2},{"$f":"(G9/G10)","v":7.1698113207547168E-2}]
["Total ",117.6,{"$f":"SUM(C6:C9)","v":145.4},154.4,163.6,{"$f":"SUM(F6:F9)","v":148.1},{"$f":"SUM(G6:G9)","v":132.5},{"$f":"B10/Total333","v":1},{"$f":"C10/Total4444","v":1},{"$f":"SUM(J6:J9)","v":0.99999999999999989},1,1,{"$f":"SUM(M6:M9)","v":0.99999999999999989}]
["Source: National Credit Regulator (NCR), Consumer Credit Market Report, March 2024, p4"]
["a Fourth quarter figures."]
["b First quarter figures."]

{"sheet":" HH saving on educ.10-23","index":33,"n_rows":17,"n_cols":4,"rows_kept":17,"cut":false,"hidden":false,"merged":[[2,2,2,3],[15,2,15,3],[16,2,16,3]]}
[]
[]
[null,null,"Households with an education policy/saving for educationa, 2015-23"]
[]
[null,null,"Year","Proportion"]
[null,null,2015,0.36]
[null,null,2016,0.31]
[null,null,2017,0.32]
[null,null,2018,0.3]
[null,null,2019,0.28000000000000003]
[null,null,2020,0.26]
[null,null,2021,0.23]
[null,null,2022,0.26]
[null,null,2023,0.24]
[null,null,"2015-23",{"$f":"(D14-D6)/D6","v":-0.33333333333333331}]
[null,null,"Source: Old Mutual, Savings and Investment Monitor 2023, July 2023, p37"]
[null,null,"a The annual monitor is a survey of 1 518 working people in South Africa’s major metropolitan areas. It examines levels of savings and investment, as well as people’s attitudes to their finances in general. Respondents were asked about household rather than personal income."]

{"sheet":"Households that use informal sa","index":34,"n_rows":12,"n_cols":7,"rows_kept":12,"cut":false,"hidden":false,"merged":[[1,0,1,6],[7,0,7,6],[8,0,8,6],[9,0,9,6],[11,0,11,6],[10,0,10,6]]}
[]
["Householdsab that use informal savings, 2020-23"]
[]
["Informal savings",2020,2021,2022,2023,"Change 2022-23","Change 2020-23"]
["Stokvelsc",0.46,0.54,0.53,0.48,{"$f":"(E5-D5)/D5","v":-9.433962264150951E-2},{"$f":"(E5-B5)/B5","v":4.3478260869565133E-2}]
["Burial societies",0.5,0.56000000000000005,0.55000000000000004,0.51,{"$f":"(E6-D6)/D6","v":-7.2727272727272779E-2},{"$f":"(E6-B6)/B6","v":2.0000000000000018E-2}]
["Grocery schemes",0.31,0.31,0.31,0.28000000000000003,-9.6774193548387011E-2,-9.6774193548387011E-2]
["Source: Old Mutual, Savings and Investment Monitor 2023, July 2023, p42"]
[]
["a  The annual monitor is a survey of 1 518 working people in South Africa’s major metropolitan areas. It examines levels of savings and investment, as well as people’s attitudes to their finances in general. Respondents were asked about household rather than personal income."]
["b Refers to Black households only."]
["c A rotating savings and credit association. Typically made up of 5 to 20 people who contribute an agreed periodic amount to a central collective savings vehicle. Each member gets to receive a lump sum of the combined contributions at least once during the lifetime of the stokvel."]

{"sheet":"Credit","index":35,"n_rows":0,"n_cols":0,"rows_kept":0,"cut":false,"hidden":false,"merged":[]}

{"sheet":"Total credit granted by provinc","index":36,"n_rows":23,"n_cols":14,"rows_kept":23,"cut":false,"hidden":false,"merged":[[18,0,18,1],[22,0,22,1],[1,0,1,13],[3,12,5,12],[3,13,5,13],[4,11,5,11],[16,0,16,11],[5,1,5,9],[21,0,21,5]]}
[]
["Total creditab granted by province, 2007-24"]
[]
[null,null,null,null,null,null,null,null,null,null,null,null,"Population by provincee","Credit per capitaf"]
[null,2007,2012,2014,2016,2018,2019,2020,2022,2023,"2024d","Change 2007-24"]
["Province","—Rbn—"]
["Eastern Cape",6.1,7.8,6.7,7.4,8.6,8.8000000000000007,8.8000000000000007,9.6,9,7.9,{"$f":"(K7-B7)/B7","v":0.29508196721311492},7176230,1096.3]
["Free State",3.9,5.2,4.8,5.3,5.9,5.5,5.6,6,5.6,5,{"$f":"(K8-B8)/B8","v":0.2820512820512821},3044050,1652]
["Gauteng",49.3,54.8,55.5,52.6,61.6,62.6,69.900000000000006,69.8,61.8,54.5,0.10547667342799195,15931824,3423]
["KwaZulu-Natal",12.4,14.9,14.4,16.8,20.100000000000001,20.2,20.100000000000001,21.5,19.5,17.7,0.42741935483870958,12312712,1438]
["Limpopo",3.2,5,4.0999999999999996,5,5.9,5.8,5.8,6.4,6.2,5.3,0.65624999999999989,6402594,834]
["Mpumalanga",5,7.5,7.3,8.4,9.6999999999999993,9.1999999999999993,9,10.4,9.5,8.6,0.72,5057662,1691]
["North West",3.9,5,4.5999999999999996,4.7,4.9000000000000004,4.4000000000000004,5.5,6.5,5.6,4.7,0.2051282051282052,4155303,1130]
["Northern Cape",1.6,2.7,2.2000000000000002,2.4,3,5.4,2.6,2.9,2.9,2.5,0.56249999999999989,1372943,1830]
["Western Cape",15.7,16,17,20.3,24.1,23.9,26,29,26.7,24.8,0.57961783439490455,7562588,3275]
["South Africac",101.3,118.9,117.6,123.5,144.69999999999999,145.4,154.4,163.6,142.30000000000001,132.5,{"$f":"(K16-B16)/B16","v":0.30799605133267527},63015904,2103]
["Source: NCR, Consumer Credit Market Report, March 2024, p23"]
["a The total credit includes mortgage agreements, secured credit, unsecured credit, credit facilities, and short-term credit transactions."]
["b Fourth quarter figures."]
["c Figures may not add up vertically, owing to rounding."]
["d First quarter figures."]
["e Mid-year population estimates from Stats SA."]
["f CRA calculations. "]

{"sheet":"Secured credit granted income","index":37,"n_rows":12,"n_cols":6,"rows_kept":12,"cut":false,"hidden":false,"merged":[[1,2,1,5],[7,2,7,5],[9,2,9,5]]}
[]
[null,null,"Secured credit granteda by monthly income, 2015 and 2024"]
[]
[null,null,"Income group","2015b","2024c","Change"]
[null,null,"<R10 000",0.433,0.34,{"$f":"(E5-D5)/D5","v":-0.21478060046189371}]
[null,null,"R10 100-R15 000",0.12,7.5999999999999998E-2,{"$f":"(E6-D6)/D6","v":-0.36666666666666664}]
[null,null,">R15 000",0.44700000000000001,0.58399999999999996,0.30648769574944063]
[null,null,"Source: NCR, Consumer Credit Market Report, March 2024, p10"]
[]
[null,null,"a Credit transactions that do not fall within the other named categories in the National Credit Act of 2005. This category includes pension-backed loans, insurance-backed loans, retail furniture accounts, and motor vehicle accounts."]
[null,null,"b Fourth quarter figures."]
[null,null,"c First quarter figures."]

{"sheet":"Secured credit granted by type ","index":38,"n_rows":14,"n_cols":6,"rows_kept":14,"cut":false,"hidden":false,"merged":[[1,1,1,5],[3,2,3,3],[3,4,3,5],[11,1,11,5]]}
[]
[null,"Secured credit granted by type of security, 2009 and 2024"]
[]
[null,null,"—Rbn—",null,"—Proportion—"]
[null,"Agreement","2009a","2024b","2009a","2024b"]
[null,"Vehicle",129867,109960,{"$f":"(C6/Total458526)","v":0.283227123434658},{"$f":"(D6/TOtal233739)","v":0.49324900192885657}]
[null,"Retirement benefits",9695,2391,2.1143839171606407E-2,{"$f":"(D7/TOtal233739)","v":1.0725339792760059E-2}]
[null,"Insurance policy",4004,3147,8.7323292463240901E-3,{"$f":"(D8/TOtal233739)","v":1.411653882384605E-2}]
[null,"Furniture and other durables",308592,103321,0.67300872796744349,{"$f":"(D9/TOtal233739)","v":0.46346835329475622}]
[null,"Other security",6368,4111,1.3887980179967984E-2,{"$f":"(D10/TOtal233739)","v":1.8440766159781099E-2}]
[null,"Total ",458526,{"$f":"SUM(D6:D10)","v":222930},1,{"$f":"SUM(F6:F10)","v":0.99999999999999989}]
[null,"Source: NCR, Consumer Credit Market Report, December 2009, p9; Consumer Credit Market Report, March 2024, p9"]
[null,"a Fourth quarter figures."]
[null,"b First quarter figures."]

{"sheet":"Unsecured credit granted by mon","index":39,"n_rows":11,"n_cols":7,"rows_kept":11,"cut":false,"hidden":false,"merged":[[1,2,1,6],[7,2,7,6],[8,2,8,6],[9,2,9,6],[10,2,10,6]]}
[]
[null,null,"Unsecured credita granted by gross monthly income level, 2009 and 2024"]
[]
[null,null,"Income group","2009b","2024c","2009b","2024c"]
[null,null,"<R10 000",595294,155578,0.72399999999999998,0.27100000000000002]
[null,null,"R10 100-R15 000",117437,75385,0.14299999999999999,0.13100000000000001]
[null,null,">R15 000",109977,343279,0.13400000000000001,0.59799999999999998]
[null,null,"Source: NCR, Consumer Credit Market Report, March 2024, p15"]
[null,null,"a The loan or credit is not secured by any pledge or personal security."]
[null,null,"b Fourth quarter figures."]
[null,null,"c First quarter figures."]

{"sheet":"Total consumer credit granted","index":40,"n_rows":22,"n_cols":6,"rows_kept":22,"cut":false,"hidden":false,"merged":[[17,1,17,5],[18,1,18,5],[19,1,19,5],[20,1,20,5],[1,1,1,5],[3,2,3,3],[3,4,3,5],[12,1,12,5],[15,1,15,5],[16,1,16,5]]}
[]
[null,"Total consumer credit granted, 2009 and 2024"]
[]
[null,null,"—Rbn—",null,"Proportion"]
[null,"Type of credit","2009a","2024b","2009a","2024b"]
[null,"Mortgagesc",21.1,38.4,{"$f":"(C6/Total633)","v":0.33333333333333337},{"$f":"(Total413/Total1357)","v":0.28981132075471699}]
[null,"Secured creditd",23.7,44.2,{"$f":"(C7/Total633)","v":0.37440758293838861},{"$f":"(D7/Total1357)","v":0.33358490566037741}]
[null,"Credit facilitiese",6.9,22.6,{"$f":"(C8/Total633)","v":0.10900473933649291},{"$f":"(D8/Total1357)","v":0.17056603773584908}]
[null,"Unsecured creditf",10.5,22.6,{"$f":"(C9/Total633)","v":0.16587677725118485},0.17056603773584908]
[null,"Short-term creditg",1.1000000000000001,3,{"$f":"(C10/Total633)","v":1.737756714060032E-2},2.2641509433962263E-2]
[null,"Developmental credith","—i",1.9,"—i",1.4339622641509434E-2]
[null,"Total",63.3,132.5,{"$f":"(C12/Total633)","v":1},1]
[null,"Source: NCR, Consumer Credit Market Report, December 2009, p4; Consumer Credit Market Report, March 2024, p4"]
[null,"a Quarter ended December 2009."]
[null,"b Quarter ended March 2024."]
[null,"c An agreement that is secured by a pledge of immovable property."]
[null,"d Credit transactions that do not fall within the other named categories in the National Credit Act of 2005. This category includes pension-backed loans, insurance-backed loans, retail furniture accounts, and motor vehicle accounts."]
[null,"e The value reported for “credit facility” includes both new credit facilities and limit increases for existing credit facility agreements. These values represent the potential exposure of the credit providers and not the actual usage/consumption by consumers."]
[null,"f The loan or credit is not secured by any pledge or personal security."]
[null,"g This includes amounts not exceeding R8 000 and repayable within 6 months."]
[null,"h Development credit includes loans for education, a small business, an acquisition, rehabilitation or building or expansion of low income housing."]
[null,"i Information not available."]

{"sheet":"Total outstanding consumer cred","index":41,"n_rows":22,"n_cols":6,"rows_kept":22,"cut":false,"hidden":false,"merged":[[17,1,17,5],[19,1,19,5],[20,1,20,5],[1,1,1,5],[12,1,12,5],[3,2,3,3],[3,4,3,5],[16,1,16,5],[18,1,18,5],[15,1,15,5]]}
[]
[null,"Total outstanding consumer credit, 2009 and 2024"]
[]
[null,null,"—Rbn—",null,"Proportion"]
[null,"Type of credit","2009a","2024b","2009a","2024b"]
[null,"Mortgagesc",734.2,1233.5999999999999,0.65300000000000002,{"$f":"D6/Total16","v":0.52030874351512091}]
[null,"Secured creditd",214.2,517.29999999999995,0.19,0.21818718630056097]
[null,"Credit facilitiese",127,333.4,0.113,0.14062170483782532]
[null,"Unsecured creditf",49.2,218.2,4.3999999999999997E-2,9.2032561474545541E-2]
[null,"Short-term creditg",0.6,2.8,1E-3,1.1809861234130499E-3]
[null,"Developmental credith","—i",65.599999999999994,"—i",2.7668817748534313E-2]
[null,"Total",1125.0999999999999,{"$f":"SUM(D6:D11)","v":2370.8999999999996},1,1]
[null,"Source: NCR, Consumer Credit Market Report, March 2024, p5"]
[null,"a Quarter ended June 2009."]
[null,"b Quarter ended March 2024."]
[null,"c An agreement that is secured by a pledge of immovable property."]
[null,"d Credit transactions that do not fall within the other named categories in the National Credit Act of 2005. This category includes pension-backed loans, insurance-backed loans, retail furniture accounts, and motor vehicle accounts."]
[null,"e The value reported for “credit facility” includes both new credit facilities and limit increases for existing credit facility agreements. These values represent the potential exposure of the credit providers and not the actual usage/consumption by consumers."]
[null,"f The loan or credit is not secured by any pledge or personal security."]
[null,"g This includes amounts not exceeding R8 000 and repayable within 6 months."]
[null,"h Development credit includes loans for education, a small business, an acquisition, rehabilitation or building or expansion of low income housing."]
[null,"I Information not available."]

{"sheet":"Number of mortgage agreements b","index":42,"n_rows":15,"n_cols":6,"rows_kept":15,"cut":false,"hidden":false,"merged":[[1,1,1,5],[3,2,3,3],[3,4,3,5],[12,1,12,5]]}
[]
[null,"Mortgage agreements by size, 2009 and 2024"]
[]
[null,null,"—Rbn—",null,"Proportion"]
[null,"Agreement","2009a","2024b","2009a","2024b"]
[null,"R0-R50 000",2601,161,{"$f":"(C6/Total37130)","v":7.0051171559385936E-2},{"$f":"(D6/Total41602)","v":5.5992209779508941E-3}]
[null,"R51 000-R100 000",3623,368,9.757608402908699E-2,1.2798219378173471E-2]
[null,"R101 000-R150 000",2436,447,6.5607325612712097E-2,1.5545663212074842E-2]
[null,"R151 000-R350 000",8715,2305,0.23471586318340965,8.0162759963831112E-2]
[null,"R351 000-R700 000",10658,6046,0.28704551575545378,0.21026639771857827]
[null,"R700 000+",9097,19427,0.24500403985995153,0.67562773874939142]
[null,"Total",37130,{"$f":"SUM(D6:D11)","v":28754},1,1]
[null,"Source: NCR, Consumer Credit Market Report, December 2009, p6; Consumer Credit Market Report, March 2024, p7"]
[null,"a Quarter ended December 2009."]
[null,"b Quarter ended March 2024."]

{"sheet":"Mortgages granted by income ","index":43,"n_rows":12,"n_cols":6,"rows_kept":12,"cut":false,"hidden":false,"merged":[[1,1,1,5],[3,2,3,3],[3,4,3,5],[9,1,9,5]]}
[]
[null,"Mortgages granted by gross monthly income, 2009 and 2024"]
[]
[null,null,"—Rbn—",null,"Proportion"]
[null,"Income level","2009a","2024b","2009a","2024b"]
[null,"R0-R10 000",2695,107,{"$f":"(C6/Total36790)","v":7.3253601522152753E-2},{"$f":"(D6/Total41598)","v":3.7212213952841342E-3}]
[null,"R10 100-R15 000",4710,243,{"$f":"(C7/Total36790)","v":0.12802391954335418},{"$f":"(D7/Total41598)","v":8.4509981220004179E-3}]
[null,"R15 000+",29385,28404,{"$f":"(C8/Total36790)","v":0.79872247893449311},{"$f":"(D8/Total41598)","v":0.98782778048271547}]
[null,"Total",36790,{"$f":"SUM(D6:D8)","v":28754},{"$f":"(C9/Total36790)","v":1},{"$f":"(D9/Total41598)","v":1}]
[null,"Source: NCR, Consumer Credit Market Report, December 2009, p7; Consumer Credit Market Report, March 2024, p7"]
[null,"a Quarter ended December 2009."]
[null,"b Quarter ended March 2024."]

{"sheet":"Personal loans.13-24","index":44,"n_rows":9,"n_cols":9,"rows_kept":9,"cut":false,"hidden":false,"merged":[[1,0,1,8],[7,0,7,8],[8,0,8,8]]}
[]
["Personal loansa, 2015-24"]
[]
["Source of loan",2015,2018,2019,2020,2022,2023,2024,"Change 2015-24"]
["A financial institution",0.17,0.15,0.21,0.43,0.42,0.45,0.43,{"$f":"(H5-B5)/B5","v":1.5294117647058822}]
["A friend or relative",7.0000000000000007E-2,0.09,0.13,0.19,0.17,0.17,0.15,{"$f":"(H6-B6)/B6","v":1.1428571428571426}]
["A micro lender",0.03,0.04,0.05,0.12,0.1,0.13,0.13,3.3333333333333335]
["Source: Old Mutual, Savings and Investment Monitor 2023, March 2024, p30"]
["a The annual monitor is a survey of 1 518 working people in South Africa’s major metropolitan areas. It examines levels of savings and investment, as well as people’s attitudes to their finances in general. Respondents were asked about household rather than personal income."]

{"sheet":"Top reasons for borrowing","index":45,"n_rows":11,"n_cols":3,"rows_kept":11,"cut":false,"hidden":false,"merged":[[1,1,1,2],[9,1,9,2],[10,1,10,2]]}
[]
[null,"Top reasons for borrowing money, 2023"]
[]
[null,"Reasons","Proportion"]
[null,"Food",0.4]
[null,"Clothes",0.12]
[null,"Bills",0.1]
[null,"Education",0.09]
[null,"Building/renovating house",7.0000000000000007E-2]
[null,"Source: Finmark Trust, FinScope Consumer South Africa 2023 Survey Launch, 23 April 2024, p27"]
[null,"Finmark Trust used a demographically representative sample of 5 600 respondents."]

{"sheet":"INCOMES.","index":46,"n_rows":0,"n_cols":0,"rows_kept":0,"cut":false,"hidden":false,"merged":[]}

{"sheet":"Household sources of income#","index":47,"n_rows":22,"n_cols":11,"rows_kept":22,"cut":false,"hidden":false,"merged":[[1,0,1,10],[18,0,18,10],[21,0,21,6],[3,0,3,10],[5,0,5,10],[7,1,7,2],[7,3,7,4],[7,5,7,6],[7,7,7,8],[7,9,7,10]]}
[]
["INCOMES"]
[]
["Income sources"]
[]
["Household sources of incomea by race (actual numbers), 2010 and 2023"]
[]
[null,"—Black—",null,"—Coloured—",null,"—Indian/Asian—",null,"—White—",null,"—Total—"]
["Income source",2010,2023,2010,2023,2010,2023,2010,2023,2010,2023]
["Salaries/wages/commission",6602000,9558000,904000,927000,266000,311000,1146000,1029000,8918000,11826000]
["Income from a business",1284000,2352000,95000,124000,60000,140000,379000,461000,1818000,{"$f":"(C11+E11+G11+I11)","v":3077000}]
["Remittances",2105000,2294000,111000,72000,32000,29000,98000,89000,2346000,2485000]
["Pensions",176000,337000,35000,66000,15000,38000,232000,293000,458000,{"$f":"(C13+E13+G13+I13)","v":734000}]
["Grants",5600000,8476000,543000,742000,119000,128000,166000,253000,6428000,9600000]
["Sales of farm products and services",160000,35000,4000,"—c","—c","—c",52000,19000,216000,54000]
["Other incomeb",191000,343000,27000,23000,12000,5000,131000,81000,362000,{"$f":"(C16+E16+G16+I16)","v":452000}]
["No income",103000,251000,6000,11000,"—c","—c","—c",24000,113000,290000]
["Total households",11126000,15738000,1143000,1277000,359000,444000,1676000,1546000,14304000,19005000]
["Source: Stats SA, General Household Survey 2010, Statistical release P0318, 3 August 2011, Table 17.2, p139;  General Household Survey 2023 Addendum tables, Statistical release P0318, 23 May 2024, Table 16.2, p155"]
["a More than one source of income is possible. The figures therefore do not add up vertically."]
["b For example, income from rentals or interest."]
["c Figures too small to provide reliable estimates. "]

{"sheet":"Household sources of income %","index":48,"n_rows":29,"n_cols":23,"rows_kept":29,"cut":false,"hidden":false,"merged":[[18,1,18,2],[18,3,18,4],[18,5,18,6],[18,7,18,8],[18,9,18,10],[3,13,3,14],[3,15,3,16],[3,17,3,18],[3,19,3,20],[3,21,3,22],[13,0,13,10],[14,0,14,7],[16,0,16,3],[1,0,1,10],[3,1,3,2],[3,3,3,4],[3,5,3,6],[3,7,3,8],[3,9,3,10]]}
[]
["Household sources of incomea by race (proportionsb), 2010 and 2023"]
[]
[null,"—Black—",null,"—Coloured—",null,"—Indian/Asian—",null,"—White—",null,"—Total—",null,null,null,"—Black—",null,"—Coloured—",null,"—Indian/Asian—",null,"—White—",null,"—Total—"]
["Income source",2010,2023,2010,2023,2010,2023,2010,2023,2010,2023,null,"Income source",2010,2022,2010,2022,2010,2022,2010,2022,2010,2022]
["Salaries/wages/commission",0.59299999999999997,{"$f":"(C21/total157345)","v":0.60731986275257344},0.79100000000000004,{"$f":"(E21/total125678)","v":0.72592012529365701},0.74099999999999999,{"$f":"(G21/total4444)","v":0.7004504504504504},0.68400000000000005,{"$f":"(I21/total1546790)","v":0.66558861578266493},0.623,{"$f":"(K21/total1945609)","v":0.62225730071033936},null,"Salaries/wages/commission",6602000,8388000,904000,910000,266000,295000,1146000,995000,8918000,11038000]
["Income from a business",0.115,0.14944719786504004,8.3000000000000004E-2,{"$f":"(E22/total125678)","v":9.7102584181675805E-2},0.16700000000000001,{"$f":"(G22/total4444)","v":0.31531531531531531},0.22600000000000001,0.29818887451487708,0.127,0.16190476190476191,null,"Income from a business",1284000,2278000,95000,121000,60000,125000,379000,426000,1818000,{"$f":"(O7+Q7+S7+U7)","v":2950000}]
["Remittances",0.189,0.14576185029864022,9.7000000000000003E-2,{"$f":"(E23/total125678)","v":5.6382145653876274E-2},8.8999999999999996E-2,{"$f":"(G23/total4444)","v":6.5315315315315314E-2},5.8000000000000003E-2,5.7567917205692105E-2,0.16400000000000001,0.13075506445672191,null,"Remittances",2105000,2335000,111000,92000,32000,34000,98000,93000,2346000,2555000]
["Pensions",1.6E-2,2.1413140170288475E-2,3.1E-2,{"$f":"(E24/total125678)","v":5.1683633516053248E-2},4.2000000000000003E-2,{"$f":"(G24/total4444)","v":8.5585585585585586E-2},0.13800000000000001,0.18952134540750323,3.2000000000000001E-2,3.8621415416995528E-2,null,"Pensions",176000,303000,35000,59000,15000,32000,232000,328000,458000,{"$f":"(O9+Q9+S9+U9)","v":722000}]
["Grants",0.503,0.53856906849663233,0.47499999999999998,{"$f":"(E25/total125678)","v":0.5810493343774471},0.33100000000000002,{"$f":"(G25/total4444)","v":0.28828828828828829},9.9000000000000005E-2,0.16364812419146182,0.44900000000000001,0.50513022888713499,null,"Grants",5600000,8199000,543000,711000,119000,140000,166000,225000,6428000,9275000]
["Sales of farm products and services",1.4E-2,2.2239166348964291E-3,3.0000000000000001E-3,"—d",0,"—d",3.1E-2,1.2289780077619664E-2,1.4999999999999999E-2,2.8413575374901341E-3,null,"Sales of farm products and services",160000,30000,4000,"N/A","–c","N/A",52000,12000,216000,44000]
["Other incomec",1.7000000000000001E-2,2.1794383021985005E-2,2.4E-2,{"$f":"(E27/total125678)","v":1.8010963194988253E-2},3.3000000000000002E-2,{"$f":"(G27/total4444)","v":1.1261261261261261E-2},7.8E-2,5.2393272962483826E-2,2.5000000000000001E-2,2.3783214943435937E-2,null,"Other incomeb",191000,381000,27000,31000,12000,35000,131000,122000,362000,{"$f":"(O12+Q12+S12+U12)","v":569000}]
["No income",8.9999999999999993E-3,1.5948659295971532E-2,5.0000000000000001E-3,{"$f":"(E28/total125678)","v":8.6139389193422081E-3},"—d","—d","—d",1.5523932729624839E-2,8.0000000000000002E-3,1.5259142330965536E-2,null,"No income",103000,301000,6000,10000,"–c","N/A","–c",22000,113000,336000]
["Source: Stats SA, General Household Survey 2010, Statistical release P0318, 3 August 2011, Table 17.2, p139;  General Household Survey 2023 Addendum tables, Statistical release P0318, 23 May 2024, Table 16.2, p155",null,null,null,null,null,null,null,null,null,null,null,"Total households",11126000,15277000,1143000,1258000,359000,436000,1676000,1556000,14304000,18477000]
["a More than one source of income is possible. The figures therefore do not add up vertically."]
["b CRA calculations."]
["c For example, income from rentals or interest. "]
["d Figures too small to provide reliable estimates. "]
[null,"—Black—",null,"—Coloured—",null,"—Indian/Asian—",null,"—White—",null,"—Total—"]
["Income source",2010,2023,2010,2023,2010,2023,2010,2023,2010,2023]
["Salaries/wages/commission",6602000,9558000,904000,927000,266000,311000,1146000,1029000,8918000,11826000]
["Income from a business",1284000,2352000,95000,124000,60000,140000,379000,461000,1818000,{"$f":"(C22+E22+G22+I22)","v":3077000}]
["Remittances",2105000,2294000,111000,72000,32000,29000,98000,89000,2346000,2485000]
["Pensions",176000,337000,35000,66000,15000,38000,232000,293000,458000,{"$f":"(C24+E24+G24+I24)","v":734000}]
["Grants",5600000,8476000,543000,742000,119000,128000,166000,253000,6428000,9600000]
["Sales of farm products and services",160000,35000,4000,"N/A","—c","N/A",52000,19000,216000,54000]
["Other incomeb",191000,343000,27000,23000,12000,5000,131000,81000,362000,{"$f":"(C27+E27+G27+I27)","v":452000}]
["No income",103000,251000,6000,11000,"—c","N/A","—c",24000,113000,290000]
["Total households",11126000,15738000,1143000,1277000,359000,444000,1676000,1546000,14304000,19005000]

{"sheet":"Sources of income by province#","index":49,"n_rows":16,"n_cols":11,"rows_kept":16,"cut":false,"hidden":false,"merged":[[1,0,1,10],[13,0,13,6],[14,0,14,2],[15,0,15,2],[12,0,12,10]]}
[]
["Household sources of incomea by province (actual numbers), 2023"]
[]
["Income source","Eastern Cape","Free State","Gauteng","KwaZulu-Natal","Limpopo","Mpumalanga","North West","Northern Cape","Western Cape ","South Africa"]
["Salaries/wages/commission",902000,550000,4003000,2030000,867000,880000,765000,235000,1593000,11826000]
["Income from a business",205000,116000,1134000,568000,283000,243000,166000,46000,316000,3077000]
["Remittances",316000,132000,596000,529000,325000,239000,216000,44000,88000,{"$f":"SUM(B7:J7)","v":2485000}]
["Pensions",80000,47000,197000,130000,51000,39000,47000,16000,128000,734000]
["Grants",1152000,645000,2141000,1837000,1090000,888000,773000,230000,844000,{"$f":"SUM(B9:J9)","v":9600000}]
["Sales of farm products and services",10000,4000,8000,"—c",3000,9000,14000,4000,"—c",54000]
["Other incomeb",33000,26000,206000,45000,14000,21000,17000,7000,84000,452000]
["No income",15000,8000,119000,29000,31000,16000,20000,4000,48000,290000]
["Source: Stats SA, General Household Survey 2022 Addendum tables, Statistical release P0318, 23 May 2024, Table 16.1, p154"]
["a More than one source of income is possible. The figures therefore do not add up vertically."]
["b For example, income from rentals or interest."]
["c Figures too small to provide reliable estimates. "]

{"sheet":"Sources of income by province%","index":50,"n_rows":27,"n_cols":23,"rows_kept":27,"cut":false,"hidden":false,"merged":[[1,0,1,10],[15,0,15,4],[12,0,12,8],[16,0,16,6]]}
[]
["Household sources of incomea by province(proportionsb), 2023"]
[]
["Income source","Eastern Cape","Free State","Gauteng","KwaZulu-Natal","Limpopo","Mpumalanga","North West","Northern Cape","Western Cape ","South Africa",null,"Income source","Eastern Cape","Free State","Gauteng","KwaZulu-Natal","Limpopo","Mpumalanga","North West","Northern Cape","Western Cape ","South Africa"]
["Salaries/wages/commission",{"$f":"(B19/total178484)","v":0.51220897217490058},{"$f":"(C19/total9999)","v":0.55055055055055058},{"$f":"(D19/Total5794048)","v":0.69268039453192598},{"$f":"(E19/Total32487)","v":0.61664641555285538},{"$f":"(F19/Total17888)","v":0.48845070422535214},{"$f":"(G19/Total14897878)","v":0.5894172806430007},{"$f":"(H19/Total13756565)","v":0.55035971223021585},{"$f":"(I19/total380000)","v":0.61842105263157898},{"$f":"(J19/total2145367)","v":0.7457865168539326},{"$f":"(K19/total190000056)","v":0.62225730071033936},null,"Salaries/wages/commission",829000,526000,3746000,1844000,848000,804000,706000,224000,1512000,11038000]
["Income from a business",0.11641113003975014,0.11611611611611612,0.19622772105900674,{"$f":"(E20/Total32487)","v":0.17253948967193194},0.15943661971830986,0.16275954454119224,0.11942446043165468,0.12105263157894737,{"$f":"(J20/total2145367)","v":0.14794007490636704},0.16190476190476191,null,"Income from a business",190000,115000,1042000,504000,264000,271000,186000,47000,330000,2950000]
["Remittances",0.1794434980124929,0.13213213213213212,0.10313202976293476,{"$f":"(E21/Total32487)","v":0.16069258809234507},0.18309859154929578,0.16008037508372405,0.1553956834532374,0.11578947368421053,{"$f":"(J21/total2145367)","v":4.1198501872659173E-2},0.13075506445672191,null,"Remittances",365000,135000,569000,537000,319000,246000,213000,35000,136000,{"$f":"SUM(N7:V7)","v":2555000}]
["Pensions",4.5428733674048836E-2,4.7047047047047048E-2,3.4088942723654612E-2,{"$f":"(E22/Total32487)","v":3.9489671931956259E-2},2.8732394366197182E-2,2.6121902210314803E-2,3.3812949640287769E-2,4.2105263157894736E-2,{"$f":"(J22/total2145367)","v":5.9925093632958802E-2},3.8621415416995528E-2,null,"Pensions",82000,37000,211000,121000,44000,35000,28000,17000,146000,722000]
["Grants",0.65417376490630319,0.64564564564564564,0.37047932168195191,{"$f":"(E23/Total32487)","v":0.55801944106925883},0.61408450704225348,0.59477561955793701,0.55611510791366903,0.60526315789473684,{"$f":"(J23/total2145367)","v":0.39513108614232212},0.50513022888713499,null,"Grants",1096000,597000,2089000,1806000,1075000,902000,720000,218000,772000,{"$f":"SUM(N9:V9)","v":9275000}]
["Sales of farm products and services",5.6785917092561046E-3,4.004004004004004E-3,1.3843225471534867E-3,"—d",1.6901408450704226E-3,6.0281312793034163E-3,1.0071942446043165E-2,1.0526315789473684E-2,"—d",2.8413575374901341E-3,null,"Sales of farm products and services",4000,"N/A",3000,6000,9000,7000,9000,4000,"N/A",44000]
["Other incomec",1.8739352640545145E-2,2.6026026026026026E-2,3.5646305589202287E-2,{"$f":"(E25/Total32487)","v":1.3669501822600244E-2},7.8873239436619714E-3,1.406563965170797E-2,1.2230215827338129E-2,1.8421052631578946E-2,{"$f":"(J25/total2145367)","v":3.9325842696629212E-2},2.3783214943435937E-2,null,"Other incomeb",26000,41000,216000,95000,17000,21000,35000,10000,108000,{"$f":"SUM(N11:V11)","v":569000}]
["No income",8.5178875638841564E-3,8.0080080080080079E-3,2.0591797888908116E-2,{"$f":"(E26/Total32487)","v":8.8092345078979346E-3},1.7464788732394366E-2,1.0716677829872739E-2,1.4388489208633094E-2,1.0526315789473684E-2,{"$f":"(J26/total2145367)","v":2.247191011235955E-2},1.5259142330965536E-2,null,"No income",20000,11000,147000,49000,33000,11000,24000,10000,30000,336000]
["Source: Stats SA, General Household Survey 2023 Addendum tables, Statistical release P0318, 23 May 2024, Table 16.1, p154",null,null,null,null,null,null,null,null,null,null,null,null,1742000,975000,5587000,3200000,1729000,1445000,1349000,371000,2079000,18477000]
["a More than one source of income is possible. The figures therefore do not add up vertically."]
["b CRA calculations. "]
["c For example, income from rentals or interest. "]
["d Figures too small to provide reliable estimates. "]
["Income source","Eastern Cape","Free State","Gauteng","KwaZulu-Natal","Limpopo","Mpumalanga","North West","Northern Cape","Western Cape ","South Africa"]
["Salaries/wages/commission",902000,550000,4003000,2030000,867000,880000,765000,235000,1593000,11826000]
["Income from a business",205000,116000,1134000,568000,283000,243000,166000,46000,316000,3077000]
["Remittances",316000,132000,596000,529000,325000,239000,216000,44000,88000,{"$f":"SUM(B21:J21)","v":2485000}]
["Pensions",80000,47000,197000,130000,51000,39000,47000,16000,128000,734000]
["Grants",1152000,645000,2141000,1837000,1090000,888000,773000,230000,844000,{"$f":"SUM(B23:J23)","v":9600000}]
["Sales of farm products and services",10000,4000,8000,"—c",3000,9000,14000,4000,"—c",54000]
["Other incomeb",33000,26000,206000,45000,14000,21000,17000,7000,84000,452000]
["No income",15000,8000,119000,29000,31000,16000,20000,4000,48000,290000]
[null,1761000,999000,5779000,3292000,1775000,1493000,1390000,380000,2136000,19005000]

{"sheet":"Top reasons for saving","index":51,"n_rows":12,"n_cols":3,"rows_kept":12,"cut":false,"hidden":false,"merged":[[1,1,1,2],[10,1,10,2],[11,1,11,2]]}
[]
[null,"Top reasons for saving, 2023"]
[]
[null,"Reasons","Proportion"]
[null,"Food",0.27]
[null,"Funeral costs",0.12]
[null,"Nothing specific/emergency",7.0000000000000007E-2]
[null,"School fees/education",0.08]
[null,"House deposits/improvements",0.05]
[null,"Not currently saving",0.32]
[null,"Source: Finmark Trust, FinScope Consumer South \nAfrica 2023 Survey Launch, 23 April 2024, p27"]
[null,"Finmark Trust used a demographically representative sample of 5 600 respondents."]

{"sheet":"Personal income","index":52,"n_rows":0,"n_cols":0,"rows_kept":0,"cut":false,"hidden":false,"merged":[]}

{"sheet":"Average take home pay index","index":53,"n_rows":21,"n_cols":5,"rows_kept":21,"cut":false,"hidden":false,"merged":[[6,3,6,4],[20,2,20,4],[3,2,3,4],[1,1,1,5]]}
[]
[null,"Personal income "]
[]
[null,null,"Average take-home pay, 2017-24"]
[]
[null,null,"Year","Nominal average take home pay","Real take home pay"]
[null,null,null,"—R—"]
[null,null,"2017-01-01",13902,13769]
[null,null,"2017-06-01",14022,13924]
[null,null,"2018-01-01",14687,13916]
[null,null,"2018-06-01",14342,13622]
[null,null,"2019-01-19",15090,13588]
[null,null,"2019-06-19",15598,14272]
[null,null,"2020-01-19",16502,14297]
[null,null,"2020-06-19",15869,14197]
[null,null,"2021-01-01",15608,13022]
[null,null,"2021-06-01",14883,12512]
[null,null,"2022-01-01",15543,15388]
[null,null,"2022-06-01",14683,14355]
[null,null,"2024-07-01",15492,13634]
[null,null,"Source: BankservAfrica, Take Home Pay Index"]

{"sheet":"Wages and salaries","index":54,"n_rows":0,"n_cols":0,"rows_kept":0,"cut":false,"hidden":false,"merged":[]}

{"sheet":"Average monthly earnings in for","index":55,"n_rows":21,"n_cols":8,"rows_kept":21,"cut":false,"hidden":false,"merged":[[1,0,1,6],[3,0,3,6],[5,0,5,6],[20,0,20,6],[18,0,18,6],[7,6,8,6],[8,1,8,5]]}
[]
["Wages and salaries"]
[]
["Average earnings"]
[]
["Average monthly earnings in formal non-agricultural industries (current prices)a , 2020-24"]
[]
[null,"2020-02-01","2021-02-21","2022-02-22","2023-02-23","2024-02-23","Change 2020-24"]
["Industry","—R—"]
["Mining and quarrying",27616,28972,29693,31228,32504,{"$f":"(F10-B10)/B10","v":0.17699884125144844},{"$f":"(F10-B10)/B10","v":0.17699884125144844}]
["Manufacturing",19433,20192,20991,22403,23287,{"$f":"(F11-B11)/B11","v":0.19832244120825401}]
["Electricity, gas and water",44112,46665,46351,48832,52432,0.18861080885019949]
["Construction",18646,18246,19729,21123,22601,0.21210983588973506]
["Wholesale and retail trade, repair of motor vehicles, motor cycles, personal and household goods, hotels and restaurants ",14705,15301,15981,16390,17064,0.16042162529751786]
["Transport, storage and communication",25271,24887,26430,28060,30726,0.21586007676783664]
["Financial intermediation, insurance, real estate and business services",23893,24885,26452,29200,30913,0.29380990248189848]
["Community, social and personal servicesb",27784,28301,28365,30819,31532,0.13489778289663115]
["Average",22376,23087,23851,25602,26793,0.19739899892742224]
["Source: Stats SA, Quarterly Employment Statistics March 2024, Statistical release P0277,  25 June 2024, pp45-49"]
["a Including bonuses and overtime."]
["b This industry includes government but does not include domestic employees in private households as their jobs are not classified as formal.  "]

{"sheet":"Average monthly earnings non-ag","index":56,"n_rows":18,"n_cols":7,"rows_kept":18,"cut":false,"hidden":false,"merged":[[1,0,1,6],[14,0,14,6],[17,0,17,6],[3,6,4,6],[4,1,4,5]]}
[]
["Average monthly earnings in formal non-agricultural industries (constant prices), 2020-24"]
[]
[null,"Feb-20a","Feb-21a","Feb-22b","Feb-23b","2024-02-24","Change 2020-24"]
["Industry","—R—"]
["Mining and quarrying",23972,24449,29457,28942,28537,{"$f":"(F6-B6)/B6","v":0.19043050225262806}]
["Manufacturing",16869,17039,20824,20762,20445,{"$f":"(F7-B7)/B7","v":0.21198648408322959}]
["Electricity, gas and water",38291,39380,45983,45256,46033,0.20218850382596432]
["Construction",16186,15398,19572,19576,19843,0.22593599406894849]
["Wholesale and retail trade: repair of motor vehicles, motor cycles, personal and household goods, hotels and restaurants  ",12765,12912,15853,15189,14982,0.17367802585193889]
["Transport, storage and communication",21937,21002,26220,26005,26976,0.22970324109951223]
["Financial intermediation, insurance, real estate and business services",20740,21001,26242,27062,27140,0.3085824493731919]
["Community, social and personal servicesc",24118,23882,28140,28563,27684,0.14785637283356828]
["Average",19423,19482,23662,23729,23552,0.21258302013077279]
["Source: Stats SA, Quarterly Employment Statistics June 2024, Statistical release P0277,  25 June 2024, pp50-54"]
["a At constant 2016 prices, including bonuses and overtime."]
["b Figures from November 2021 onwards are based on the December 2021 CPI headline index numbers."]
["c This industry includes government but does not include domestic servants in private households as this work is not classified as formal."]

{"sheet":"Graph Average monthly earnings ","index":57,"n_rows":10,"n_cols":5,"rows_kept":10,"cut":false,"hidden":false,"merged":[]}
[null,"2020-02-16","Feb-17a","Feb-19a","2024-02-20"]
["Mining and quarrying",23972,null,null,28537]
["Manufacturing",16869,null,null,20445]
["Electricity, gas and water",38291,null,null,46033]
["Construction",16186,null,null,19843]
["Wholesale and retail trade: repair of motor vehicles, motor cycles, personal and household goods, hotels and restaurants.  ",12765,null,null,14982]
["Transport, storage and communication",21937,null,null,26976]
["Financial intermediation, insurance, real estate and business services",20740,null,null,27140]
["Community, social and personal services",24118,null,null,27684]
[null,19423,null,null,23552]

{"sheet":"EXPENDITURE.CONSUMPTION","index":58,"n_rows":0,"n_cols":0,"rows_kept":0,"cut":false,"hidden":false,"merged":[]}

{"sheet":"Monthly HH Expenditure by race#","index":59,"n_rows":34,"n_cols":8,"rows_kept":34,"cut":false,"hidden":false,"merged":[[33,1,33,5],[32,1,32,5],[1,1,1,8],[3,1,3,8],[5,2,5,7],[17,2,17,7],[30,1,30,8],[31,1,31,5]]}
[]
[null,"EXPENDITURE AND CONSUMPTION"]
[]
[null,"Monthly household expenditure categories by racea (actual numbers), 2002 and 2023"]
[]
[null,null,"—2002—"]
[null,null,"Category","Black","Coloured","Indian/Asian","White","Totalb"]
[null,null,"R0-R399",3511000,151000,6000,14000,3686000]
[null,null,"R400-R799",2907000,213000,23000,56000,3201000]
[null,null,"R800-R1 199",1109000,147000,37000,113000,1407000]
[null,null,"R1 200-R1 799",567000,114000,38000,115000,834000]
[null,null,"R1 800-R2 499",344000,97000,37000,172000,652000]
[null,null,"R2 500-R4 999",306000,103000,69000,364000,844000]
[null,null,"R5 000-R9 999",118000,43000,47000,343000,553000]
[null,null,"R10 000+",26000,9000,11000,150000,195000]
[null,null,"Refused to say, do not know, unspecified",184000,54000,15000,153000,409000]
[null,null,"Total householdsb",9072000,930000,282000,1479000,11780000]
[null,null,"—2023—"]
[null,null,"R0-R399",376000,10000,"—c","—c",391000]
[null,null,"R400-R799",651000,29000,"—c","—c",684000]
[null,null,"R800-R1 199",1125000,37000,6000,"—c",1171000]
[null,null,"R1 200-R1 799",1630000,63000,7000,5000,{"$f":"SUM(D22:G22)","v":1705000}]
[null,null,"R1 800-R2 499",2544000,121000,14000,23000,2702000]
[null,null,"R2 500-R4 999",4377000,275000,45000,61000,4758000]
[null,null,"R5 000-R9 999",2784000,313000,123000,253000,3473000]
[null,null,"R10 000-R19 999",1302000,243000,121000,428000,2095000]
[null,null,"R20 000-R39 999",523000,117000,71000,439000,1150000]
[null,null,"R40 000+",149000,54000,30000,266000,499000]
[null,null,"Refused to say, do not know, unspecified",276000,11000,23000,40000,379000]
[null,null,"Total householdsb",15738000,1277000,444000,1546000,19005000]
[null,"Source: Stats SA, General Household Survey 2002, Statistical release P0318, 15 December 2003, Table 9.2, p66; General Household Survey 2023 Addendum tables, Statistical release P0318, 23 May 2024, Table 16.4, p157"]
[null,"a This refers to the race of the head of the household."]
[null,"b Figures should add up vertically and horizontally but may not, owing to rounding."]
[null,"c Figures are too small to provide reliable estimates."]

{"sheet":"Graph Monthly HH expenditure","index":60,"n_rows":30,"n_cols":6,"rows_kept":30,"cut":false,"hidden":false,"merged":[[18,0,18,5]]}
[null,2022,2023]
["R0-R399",380000,391000]
["R400-R799",761000,684000]
["R800-R1 199",1265000,1171000]
["R1 200-R1 799",1953000,1705000]
["R1 800-R2 499",2769000,2702000]
["R2 500-R4 999",4427000,4758000]
["R5 000-R9 999",2938000,3473000]
["R10 000-R19 999",2037000,2095000]
["R20 000-R39 999",1032000,1150000]
["R40 000+",393000,499000]
["Refused to say, do not know, unspecified",518000,379000]
["Total householdsb",{"$f":"SUM(#REF!)","v":{"$error":"#REF!"}},{"$f":"SUM(#REF!)","v":{"$error":"#REF!"}}]
[]
[]
[]
[]
[]
["—2023—"]
["R0-R399",376000,10000,"—c","—c",391000]
["R400-R799",651000,29000,"—c","—c",684000]
["R800-R1 199",1125000,37000,6000,"—c",1171000]
["R1 200-R1 799",1630000,63000,7000,5000,{"$f":"SUM(B23:E23)","v":1705000}]
["R1 800-R2 499",2544000,121000,14000,23000,2702000]
["R2 500-R4 999",4377000,275000,45000,61000,4758000]
["R5 000-R9 999",2784000,313000,123000,253000,3473000]
["R10 000-R19 999",1302000,243000,121000,428000,2095000]
["R20 000-R39 999",523000,117000,71000,439000,1150000]
["R40 000+",149000,54000,30000,266000,499000]
["Refused to say, do not know, unspecified",276000,11000,23000,40000,379000]

{"sheet":"Monthly HH Expenditure by race%","index":61,"n_rows":47,"n_cols":13,"rows_kept":47,"cut":false,"hidden":false,"merged":[[34,0,34,5],[1,0,1,5],[3,0,3,5],[15,0,15,5],[29,0,29,5],[33,0,33,4]]}
[]
["Monthly household expenditure categories by racea (proportionsb), 2002 and 2023"]
[]
["—2002—"]
["Category","Black","Coloured","Indian/Asian","White","Total"]
["R0–R399",0.38701499118165783,0.16236559139784945,2.1276595744680851E-2,9.4658553076402974E-3,0.31290322580645163]
["R400–R799",0.32043650793650796,0.22903225806451613,8.1560283687943269E-2,3.7863421230561189E-2,0.27173174872665534]
["R800–R1 199",0.12224426807760141,0.15806451612903225,0.13120567375886524,7.6402974983096686E-2,0.11943972835314091]
["R1 200–R1 799",6.25E-2,0.12258064516129032,0.13475177304964539,7.77552400270453E-2,7.0797962648556881E-2]
["R1 800–R2 499",3.7918871252204583E-2,0.1043010752688172,0.13120567375886524,0.1162947937795808,5.5348047538200343E-2]
["R2 500–R4 999",3.3730158730158728E-2,0.11075268817204301,0.24468085106382978,0.24611223799864773,7.1646859083191849E-2]
["R5 000–R9 999",1.300705467372134E-2,4.6236559139784944E-2,0.16666666666666666,0.2319134550371873,4.6943972835314089E-2]
["R10 000+",2.8659611992945325E-3,9.6774193548387101E-3,3.9007092198581561E-2,0.10141987829614604,1.6553480475382003E-2]
["Refused to say, do not know, unspecified",2.0282186948853614E-2,5.8064516129032261E-2,5.3191489361702128E-2,0.10344827586206896,3.4719864176570456E-2]
["Total householdsc",1,1,1,1,1]
["—2023—"]
["R0-R399",{"$f":"(B36/Total15730)","v":2.3891218706315925E-2},{"$f":"(C36/Total1270)","v":7.8308535630383716E-3},"—c","—c",{"$f":"(F36/Total19000)","v":2.0573533280715602E-2},null,"R0-R399",366000,13000,"—c","—c",380000]
["R400-R799",4.1364849409073583E-2,2.2709475332811275E-2,"—c","—c",3.5990528808208369E-2,null,"R400-R799",732000,28000,"—c","—c",761000]
["R800-R1 199",7.1483034693099509E-2,2.8974158183241974E-2,{"$f":"(D38/Total440)","v":1.3513513513513514E-2},"—c",6.1615364377795315E-2,null,"R800-R1 199",1217000,34000,5000,9000,1265000]
["R1 200-R1 799",0.10357097471089084,4.9334377447141739E-2,1.5765765765765764E-2,{"$f":"(E39/Total1540)","v":3.2341526520051748E-3},8.9713233359642194E-2,null,"R1 200-R1 799",1861000,65000,9000,18000,1953000]
["R1 800-R2 499",0.16164696911932902,9.4753328112764296E-2,3.1531531531531529E-2,1.4877102199223804E-2,0.14217311233885818,null,"R1 800-R2 499",2605000,117000,16000,32000,2769000]
["R2 500-R4 999",0.27811666031261911,0.21534847298355519,0.10135135135135136,3.9456662354463129E-2,0.25035516969218624,null,"R2 500-R4 999",4027000,285000,36000,78000,4427000]
["R5 000-R9 999",0.17689668318719023,0.24510571652310101,0.27702702702702703,0.16364812419146182,0.18274138384635621,null,"R5 000-R9 999",2247000,338000,91000,262000,2938000]
["R10 000-R19 999",8.2729698818147165E-2,0.19028974158183243,0.27252252252252251,0.27684346701164297,0.11023414890818206,null,"R10 000-R19 999",1211000,237000,142000,447000,2037000]
["R20 000-R39 999",3.3231668572880922E-2,9.1620986687548936E-2,0.15990990990990991,0.28395860284605434,6.0510392002104708E-2,null,"R20 000-R39 999",408000,100000,89000,435000,1032000]
["R40 000+",9.4675308171305126E-3,4.2286609240407204E-2,6.7567567567567571E-2,0.17205692108667528,2.6256248355695868E-2,null,"R40 000+",127000,18000,35000,212000,393000]
["Refused to say, do not know, unspecified",1.7537171178040413E-2,8.6139389193422081E-3,5.18018018018018E-2,2.5873221216041398E-2,1.9942120494606683E-2,null,"Refused to say, do not know, unspecified",425000,23000,11000,57000,518000]
["Total householdsd",{"$f":"SUM(B17:B27)","v":0.99993645952471721},1,1,1,{"$f":"SUM(F17:F27)","v":1.0001052354643514},null,"Total householdsb",15227000,1258000,436000,1556000,{"$f":"SUM(I28:L28)","v":18477000}]
[]
["Source: Stats SA, General Household Survey 2002, Statistical release P0318, 15 December 2003, Table 9.2, p66; General Household Survey 2023 Addendum tables, Statistical release P0318, 23 May 2024, Table 16.4, p157"]
["a This refers to the race of the head of the household."]
["b CRA calculations."]
["c Figures are too small to provide reliable estimates."]
["d Figures should add up vertically but may not, owing to rounding."]
["—2023—"]
["R0-R399",376000,10000,"—c","—c",391000]
["R400-R799",651000,29000,"—c","—c",684000]
["R800-R1 199",1125000,37000,6000,"—c",1171000]
["R1 200-R1 799",1630000,63000,7000,5000,{"$f":"SUM(B39:E39)","v":1705000}]
["R1 800-R2 499",2544000,121000,14000,23000,2702000]
["R2 500-R4 999",4377000,275000,45000,61000,4758000]
["R5 000-R9 999",2784000,313000,123000,253000,3473000]
["R10 000-R19 999",1302000,243000,121000,428000,2095000]
["R20 000-R39 999",523000,117000,71000,439000,1150000]
["R40 000+",149000,54000,30000,266000,499000]
["Refused to say, do not know, unspecified",276000,11000,23000,40000,379000]
["Total householdsb",15738000,1277000,444000,1546000,19005000]

{"sheet":"Graph % Monthly HH Expenditure ","index":62,"n_rows":13,"n_cols":3,"rows_kept":13,"cut":false,"hidden":false,"merged":[]}
[null,2022,2023]
["R0-R399",2.056610921686421E-2,2.1000000000000001E-2]
["R400-R799",4.1186339773772798E-2,3.5999999999999997E-2]
["R800-R1 199",6.8463495156140072E-2,6.2E-2]
["R1 200-R1 799",0.10569897710667316,0.09]
["R1 800-R2 499",0.14986199058288682,0.14199999999999999]
["R2 500-R4 999",0.23959517237646805,0.25]
["R5 000-R9 999",0.15900849705038697,0.183]
["R10 000-R19 999",0.11024516967040104,0.11]
["R20 000-R39 999",5.5853222925799646E-2,6.0999999999999999E-2]
["R40 000+",2.1269686637441144E-2,2.5999999999999999E-2]
["Refused to say, do not know, unspecified",2.8034854142988581E-2,0.02]
["Total householdsb"]

{"sheet":"Spending R10 000 by race","index":63,"n_rows":22,"n_cols":16,"rows_kept":22,"cut":false,"hidden":false,"merged":[[21,0,21,5],[4,0,5,0],[4,1,5,1],[4,2,4,3],[4,4,5,4],[4,5,4,6],[4,7,5,7],[1,0,1,15],[3,1,3,3],[3,4,3,6],[3,7,3,9],[3,10,3,12],[3,13,3,15],[4,8,4,9],[4,10,5,10],[4,11,4,12],[4,13,5,13],[4,14,4,15]]}
[]
["Households spending R10 000 or more per month by race, 2009-23"]
[]
[null,"—Black—",null,null,"—Coloured—",null,null,"—Indian/Asian— ",null,null,"—White— ",null,null,"—Total—"]
["Year","Number of households","—Spending\nR10 000 or more— ",null,"Number of households","—Spending\nR10 000 or more— ",null,"Number of households","—Spending\nR10 000 or more— ",null,"Number of households","—Spending\nR10 000 or more— ",null,"Number of households","—Spending\nR10 000 or more— "]
[null,null,"Number","Proportion",null,"Number","Proportion",null,"Number","Proportion",null,"Number","Proportion",null,"Number","Proportion"]
[2009,10680000,208000,{"$f":"C7/B7","v":1.947565543071161E-2},1109000,83000,{"$f":"F7/E7","v":7.4842200180342655E-2},348000,60000,{"$f":"I7/H7","v":0.17241379310344829},1675000,575000,{"$f":"L7/K7","v":0.34328358208955223},13812000,926000,{"$f":"O7/N7","v":6.7043150883289895E-2}]
[2010,11126000,276000,2.4806758943016358E-2,1143000,107000,9.361329833770779E-2,359000,74000,{"$f":"I8/H8","v":0.20612813370473537},1676000,719000,0.42899761336515513,14304000,1177000,8.2284675615212521E-2]
[2011,11536000,406000,3.5194174757281552E-2,1174000,116000,9.8807495741056212E-2,369000,84000,{"$f":"I9/H9","v":0.22764227642276422},1677000,762000,0.45438282647584971,14756000,1368000,9.2708050962320418E-2]
[2012,11592000,562000,4.8481711525189784E-2,1075000,151000,0.14046511627906977,346000,112000,0.32369942196531792,1618000,851000,0.52595797280593326,14631000,1679000,0.11475633927961178]
[2013,12038000,665000,5.5241734507393253E-2,1096000,200000,0.18248175182481752,354000,106000,0.29943502824858759,1619000,859000,0.53057442865966642,15107000,1831000,0.12120209174554843]
[2014,12506000,1012000,8.0921157844234773E-2,1116000,222000,0.19892473118279569,361000,154000,0.4265927977839335,1619000,988000,0.61025324274243364,15602000,2377000,0.15235226253044482]
[2015,12998000,1058000,8.1397138021234036E-2,1136000,215000,0.18926056338028169,369000,156000,0.42276422764227645,1619000,1025000,0.63310685608400252,16122000,2454000,0.15221436546334202]
[2016,13512000,1210000,8.9550029603315567E-2,1154000,270000,0.2339688041594454,377000,163000,0.43236074270557029,1619000,1051000,0.64916615194564542,16662000,2695000,0.16174528868083063]
[2017,13042000,1241000,9.5154117466646218E-2,1172000,295000,0.25170648464163825,397000,164000,0.41309823677581864,1588000,1043000,0.65680100755667503,16199000,2742000,0.16926970800666707]
[2018,13493000,1434000,0.10627732898539984,1191000,297000,0.24937027707808565,405000,185000,0.4567901234567901,1582000,1101000,0.69595448798988624,16671000,3016000,0.18091296262971626]
[2019,13964000,1465000,0.10491263248352907,1210000,362000,{"$f":"F17/E17","v":0.29917355371900828},414000,226000,{"$f":"I17/H17","v":0.54589371980676327},1575000,1096000,0.69587301587301587,17163000,3149000,0.18347608226999942]
[2020,14209000,1327000,9.3391512421704556E-2,1219000,343000,{"$f":"F18/E18","v":0.28137817883511074},418000,175000,{"$f":"I18/H18","v":0.41866028708133973},1571000,1019000,0.64863144493952896,17418000,2864000,0.16442760362843037]
[2021,14716000,1535000,0.10430823593367763,1239000,355000,{"$f":"F19/E19","v":0.28652138821630346},427000,164000,{"$f":"I19/H19","v":0.38407494145199061},1564000,1073000,0.68606138107416881,17947000,3127000,0.17423524823090211]
[2022,15227000,1746000,0.11466474026400472,1258000,355000,{"$f":"F20/E20","v":0.28219395866454688},436000,266000,{"$f":"I20/H20","v":0.61009174311926606},1556000,1094000,0.70308483290488433,18477000,3462000,0.18736807923364182]
[2023,15738000,1974000,0.12542889820815858,1277000,414000,{"$f":"F21/E21","v":0.32419733750978857},444000,222000,{"$f":"I21/H21","v":0.5},1546000,1133000,0.73285899094437257,19005000,3744000,0.19700078926598263]
["Source: Stats SA; CRA calculations"]

{"sheet":"HH expenditure by prov#","index":64,"n_rows":18,"n_cols":11,"rows_kept":18,"cut":false,"hidden":false,"merged":[[1,0,1,10],[16,0,16,10]]}
[]
["Monthly household expenditure categories by province (actual numbers), 2023"]
[]
["Category ","Eastern\nCape","Free State ","Gauteng","KwaZulu-\nNatal","Limpopo","Mpumalanga ","North \nWest","Northern\nCape","Western\nCape","Total"]
["R 0-R 399",46000,31000,87000,62000,39000,29000,50000,7000,23000,391000]
["R 400-R 799",72000,50000,154000,91000,92000,76000,86000,10000,53000,684000]
["R 800-R 1 199",127000,67000,248000,215000,196000,113000,100000,22000,83000,1171000]
["R 1 200-R 1 799",148000,116000,397000,324000,282000,152000,158000,27000,102000,1705000]
["R 1 800-R 2 499",300000,169000,669000,535000,341000,235000,205000,54000,193000,2702000]
["R 2 500-R 4 999",467000,245000,1419000,834000,444000,451000,371000,108000,419000,4758000]
["R 5000-R 9 999",373000,144000,1201000,610000,198000,239000,190000,71000,445000,3473000]
["R 10 000- R19 999",142000,100000,781000,319000,101000,117000,121000,44000,369000,2095000]
["R20 000-R39 999",65000,37000,504000,111000,54000,55000,55000,22000,248000,1160000]
["R40 000+",15000,10000,201000,49000,19000,11000,16000,10000,168000,499000]
["Do not know, refused to say",4000,30000,114000,141000,"—a",8000,34000,3000,30000,375000]
["Total",1781000,999000,5779000,3292000,1775000,1493000,1390000,380000,2136000,19005000]
["Source: Stats SA, General Household Survey 2023 Addendum tables, Statistical release P0318, 23 May 2024, Table 16.3, p156"]
["a Figures too small to provide reliable estimates.   "]

{"sheet":"% HH expenditure by prov%","index":65,"n_rows":33,"n_cols":23,"rows_kept":33,"cut":false,"hidden":false,"merged":[[1,0,1,10],[17,0,17,10]]}
[]
["Monthly household expenditure categories by province (proportionsa), 2023"]
[]
["Category ","Eastern Cape","Free State","Gauteng","KwaZulu-Natal","Limpopo","Mpumalanga","North West","Northern Cape","Western Cape","Total",null,"Category ","Eastern\nCape","Free State ","Gauteng","KwaZulu-\nNatal","Limpopo","Mpumalanga ","North \nWest","Northern\nCape","Western\nCape","Total"]
["R 0-R 399",{"$f":"(B22/TOtal1782)","v":2.5828186412128019E-2},{"$f":"(C22/Total992)","v":3.1031031031031032E-2},{"$f":"(D22/Total5772)","v":1.5054507700294168E-2},{"$f":"(E22/Total3293)","v":1.8833535844471446E-2},{"$f":"(F22/Total1772)","v":2.1971830985915493E-2},{"$f":"(G22/Total1494)","v":1.9423978566644341E-2},{"$f":"(H22/TOtal1392)","v":3.5971223021582732E-2},{"$f":"(I22/Total382)","v":1.8421052631578946E-2},{"$f":"(J22/Total2132)","v":1.0767790262172285E-2},{"$f":"(K22/Total19002)","v":2.0573533280715602E-2},null,"R 0-R 399",36000,35000,88000,74000,52000,21000,45000,12000,8000,380000]
["R 400-R 799",4.042672655811342E-2,5.0050050050050053E-2,2.6648209032704619E-2,2.7642770352369381E-2,5.1830985915492955E-2,5.0904219691895514E-2,6.1870503597122303E-2,2.6315789473684209E-2,2.4812734082397005E-2,3.5990528808208369E-2,null,"R 400-R 799",75000,58000,187000,95000,153000,54000,84000,15000,42000,761000]
["R 800-R 1 199",7.1308253790005618E-2,6.7067067067067068E-2,4.2913998961758092E-2,6.5309842041312266E-2,0.1104225352112676,7.5686537173476218E-2,7.1942446043165464E-2,5.7894736842105263E-2,3.8857677902621721E-2,6.1615364377795315E-2,null,"R 800-R 1 199",124000,75000,319000,185000,235000,122000,130000,27000,49000,1265000]
["R 1 200-R 1 799",8.3099382369455368E-2,0.11611611611611612,6.8697006402491781E-2,9.8420413122721748E-2,0.15887323943661971,0.10180843938379103,0.11366906474820145,7.1052631578947367E-2,4.7752808988764044E-2,8.9713233359642194E-2,null,"R 1 200-R 1 799",208000,119000,441000,409000,295000,183000,183000,32000,85000,1953000]
["R 1 800-R 2 499",0.16844469399213924,0.16916916916916916,0.11576397300571033,0.16251518833535844,0.19211267605633803,0.15740120562625587,0.14748201438848921,0.14210526315789473,9.0355805243445692E-2,0.14217311233885818,null,"R 1 800-R 2 499",333000,164000,699000,581000,301000,263000,228000,45000,155000,2769000]
["R 2 500-R 4 999",0.26221224031443008,0.24524524524524524,0.24554421180134972,0.25334143377885782,0.25014084507042256,0.30207635632953783,0.2669064748201439,0.28421052631578947,0.19616104868913858,0.25035516969218624,null,"R 2 500-R 4 999",418000,212000,1377000,807000,384000,423000,289000,101000,416000,4427000]
["R 5000-R 9 999",0.20943290286355981,0.14414414414414414,0.20782142239141721,0.18529769137302551,0.11154929577464789,0.16008037508372405,0.1366906474820144,0.18684210526315789,0.20833333333333334,0.18274138384635621,null,"R 5000-R 9 999",334000,130000,1009000,421000,151000,193000,147000,69000,484000,2938000]
["R 10 000- R19 999",7.9730488489612575E-2,0.10010010010010011,0.13514448866585915,9.6901579586877284E-2,5.6901408450704224E-2,7.8365706630944401E-2,8.7050359712230213E-2,0.11578947368421053,0.17275280898876405,0.11023414890818206,null,"R 10 000- R19 999",137000,100000,723000,287000,111000,114000,118000,44000,402000,2037000]
["R20 000-R39 999",3.6496350364963501E-2,3.7037037037037035E-2,8.7212320470669666E-2,3.3718104495747268E-2,3.0422535211267605E-2,3.6838580040187544E-2,3.9568345323741004E-2,5.7894736842105263E-2,0.11610486891385768,6.1036569323862144E-2,null,"R20 000-R39 999",52000,29000,375000,142000,25000,50000,52000,20000,286000,1032000]
["R40 000+",8.4222346996069616E-3,1.001001001001001E-2,3.4781103997231354E-2,1.4884568651275821E-2,1.0704225352112675E-2,7.367716008037508E-3,1.1510791366906475E-2,2.6315789473684209E-2,7.8651685393258425E-2,2.6256248355695868E-2,null,"R40 000+",12000,8000,184000,59000,11000,9000,12000,3000,95000,393000]
["Do not know, refused to say",2.2459292532285235E-3,3.003003003003003E-2,1.9726596296937186E-2,4.2831105710814096E-2,"—b",5.3583389149363695E-3,2.4460431654676259E-2,"—b",1.4044943820224719E-2,1.973164956590371E-2,null,"Do not know, refused to say",12000,43000,181000,138000,9000,11000,60000,"—a",55000,518000]
["Total",1,1,1,1,1,1,1,1,1,1,null,"Total",1742000,975000,5587000,3200000,1729000,1445000,1349000,371000,2079000,18477000]
[]
["Source: Stats SA, General Household Survey 2023 Addendum tables, Statistical release P0318, 23 May 2024, Table 16.3, p156"]
["a CRA calculations."]
["b Figures too small to provide reliable estimates.   "]
["Category ","Eastern\nCape","Free State ","Gauteng","KwaZulu-\nNatal","Limpopo","Mpumalanga ","North \nWest","Northern\nCape","Western\nCape","Total"]
["R 0-R 399",46000,31000,87000,62000,39000,29000,50000,7000,23000,391000]
["R 400-R 799",72000,50000,154000,91000,92000,76000,86000,10000,53000,684000]
["R 800-R 1 199",127000,67000,248000,215000,196000,113000,100000,22000,83000,1171000]
["R 1 200-R 1 799",148000,116000,397000,324000,282000,152000,158000,27000,102000,1705000]
["R 1 800-R 2 499",300000,169000,669000,535000,341000,235000,205000,54000,193000,2702000]
["R 2 500-R 4 999",467000,245000,1419000,834000,444000,451000,371000,108000,419000,4758000]
["R 5000-R 9 999",373000,144000,1201000,610000,198000,239000,190000,71000,445000,3473000]
["R 10 000- R19 999",142000,100000,781000,319000,101000,117000,121000,44000,369000,2095000]
["R20 000-R39 999",65000,37000,504000,111000,54000,55000,55000,22000,248000,1160000]
["R40 000+",15000,10000,201000,49000,19000,11000,16000,10000,168000,499000]
["Do not know, refused to say",4000,30000,114000,141000,"—a",8000,34000,3000,30000,375000]
["Total",1781000,999000,5779000,3292000,1775000,1493000,1390000,380000,2136000,19005000]

{"sheet":"HH expenditure by sex#","index":66,"n_rows":19,"n_cols":6,"rows_kept":19,"cut":false,"hidden":false,"merged":[[1,2,1,5],[16,1,16,6],[18,1,18,4]]}
[]
[null,null,"Monthly household expenditure categories by sexa (actual numbers), 2023"]
[]
[null,null,"Category ","Male head","Female head","Total "]
[null,null,"R 0-R 399",311000,79000,{"$f":"SUM(D5:E5)","v":390000}]
[null,null,"R 400-R 799",453000,231000,{"$f":"SUM(D6:E6)","v":684000}]
[null,null,"R 800-R 1 199",686000,485000,1171000]
[null,null,"R 1 200-R 1 799",890000,815000,1705000]
[null,null,"R 1 800-R 2 499",1304000,1397000,2702000]
[null,null,"R 2 500-R 4 999",2447000,2310000,4758000]
[null,null,"R 5000-R 9 999",2066000,1407000,3473000]
[null,null,"R 10 000- R19 999",1328000,766000,2095000]
[null,null,"R20 000-R39 999",818000,332000,1150000]
[null,null,"R40 000+",415000,84000,499000]
[null,null,"Do not know, refused to say",242000,133000,379000]
[null,null,"Total",10963000,8042000,{"$f":"SUM(D16:E16)","v":19005000}]
[null,"Source: Stats SA, General Household Survey 2023 Addendum tables, Statistical release P0318, 23 May 2024, Table 16.4, p157"]
[]
[null,"a Refers to the sex of the head of the household. "]

{"sheet":"HH expenditure by sex%","index":67,"n_rows":22,"n_cols":13,"rows_kept":22,"cut":false,"hidden":false,"merged":[[1,0,1,3],[19,0,19,3],[21,0,21,3],[17,0,17,3]]}
[]
["Monthly household expenditure categories by sexa (proportionsb), 2023"]
[]
["Category ","Male head","Female head","Total ",null,"Category ","Male head","Female head","Total ","Category ","Male head","Female head","Total "]
["R 0-R 399",{"$f":"(K5/Total10964)","v":2.8368147404907416E-2},{"$f":"(L5/Total80425)","v":9.8234270082069135E-3},{"$f":"(M5/Total1900678)","v":2.0520915548539857E-2},null,"R 0-R 399",289000,90000,380000,"R 0-R 399",311000,79000,{"$f":"SUM(K5:L5)","v":390000}]
["R 400-R 799",4.1320806348627198E-2,2.8724197960706292E-2,3.5990528808208369E-2,null,"R 400-R 799",469000,292000,761000,"R 400-R 799",453000,231000,{"$f":"SUM(K6:L6)","v":684000}]
["R 800-R 1 199",6.2574112925294176E-2,6.0308380999751304E-2,6.1615364377795315E-2,null,"R 800-R 1 199",684000,582000,1265000,"R 800-R 1 199",686000,485000,1171000]
["R 1 200-R 1 799",8.1182158168384561E-2,0.10134294951504601,8.9713233359642194E-2,null,"R 1 200-R 1 799",1006000,948000,1953000,"R 1 200-R 1 799",890000,815000,1705000]
["R 1 800-R 2 499",0.11894554410289154,0.17371300671474757,0.14217311233885818,null,"R 1 800-R 2 499",1341000,1428000,2769000,"R 1 800-R 2 499",1304000,1397000,2702000]
["R 2 500-R 4 999",0.22320532700903037,0.28724197960706294,0.25035516969218624,null,"R 2 500-R 4 999",2439000,1988000,4427000,"R 2 500-R 4 999",2447000,2310000,4758000]
["R 5000-R 9 999",0.18845206604031745,0.17495647848793833,0.18274138384635621,null,"R 5000-R 9 999",1738000,1200000,2938000,"R 5000-R 9 999",2066000,1407000,3473000]
["R 10 000- R19 999",0.1211347258961963,9.5249937826411335E-2,0.11023414890818206,null,"R 10 000- R19 999",1363000,674000,2037000,"R 10 000- R19 999",1328000,766000,2095000]
["R20 000-R39 999",7.4614612788470314E-2,4.1283262869932849E-2,6.0510392002104708E-2,null,"R20 000-R39 999",744000,288000,1032000,"R20 000-R39 999",818000,332000,1150000]
["R40 000+",3.7854601842561342E-2,1.0445162894802289E-2,2.6256248355695868E-2,null,"R40 000+",324000,68000,393000,"R40 000+",415000,84000,499000]
["Do not know, refused to say",2.2074249749156252E-2,1.6538174583436958E-2,1.9942120494606683E-2,null,"Do not know, refused to say",282000,236000,518000,"Do not know, refused to say",242000,133000,379000]
["Totalc",1,1,{"$f":"SUM(D5:D15)","v":1.0000526177321758},null,"Total",10683000,7794000,18477000,"Total",10963000,8042000,{"$f":"SUM(K16:L16)","v":19005000}]
[]
["Source: Stats SA, General Household Survey 2023 Addendum tables, Statistical release P0318, 23 May 2024, Table 16.4, p157"]
[]
["a Refers to the sex of the head of the household. "]
["b CRA calculations."]
["c Figures should add up vertically but may not, owing to rounding.  "]

{"sheet":"Distribution of final household","index":68,"n_rows":20,"n_cols":14,"rows_kept":20,"cut":false,"hidden":false,"merged":[[1,0,1,13],[17,0,17,13],[19,0,19,4]]}
[]
["Distribution of final household consumptiona by main expenditure group, 1999-2023"]
[]
["Expenditure type",1999,2010,2013,2016,2017,2018,2019,2020,2021,2022,2023,"2022-23","1999-2023"]
["Food and non-alcoholic beverages",0.20499999999999999,0.19800000000000001,0.19900000000000001,0.21299999999999999,0.214,0.20899999999999999,0.21099999999999999,0.22500000000000001,0.157,0.16300000000000001,0.16800000000000001,{"$f":"(L5-K5)/K5","v":3.0674846625766899E-2},{"$f":"(L5-B5)/B5","v":-0.18048780487804869}]
["Alcoholic beverages, tobacco and narcotics",6.5000000000000002E-2,0.05,4.5999999999999999E-2,4.8000000000000001E-2,4.9000000000000002E-2,4.9000000000000002E-2,0.05,4.3999999999999997E-2,4.7E-2,0.04,3.9E-2,{"$f":"(L6-K6)/K6","v":-2.5000000000000022E-2},{"$f":"(L6-B6)/B6","v":-0.4}]
["Clothing and footwear",5.6000000000000001E-2,4.9000000000000002E-2,4.9000000000000002E-2,5.1999999999999998E-2,5.1999999999999998E-2,0.05,4.9000000000000002E-2,0.04,4.2999999999999997E-2,4.1000000000000002E-2,4.1000000000000002E-2,0,-0.26785714285714285]
["Housing, water, electricity, gas and other fuels",0.13,0.154,0.14699999999999999,0.14899999999999999,0.14699999999999999,0.14799999999999999,0.14899999999999999,0.161,0.159,0.151,0.14899999999999999,-1.3245033112582794E-2,0.14615384615384608]
["Furnishings, household equipment and routine maintenance",8.4000000000000005E-2,6.8000000000000005E-2,6.5000000000000002E-2,6.6000000000000003E-2,6.7000000000000004E-2,6.7000000000000004E-2,6.7000000000000004E-2,6.6000000000000003E-2,5.8000000000000003E-2,5.3999999999999999E-2,5.3999999999999999E-2,0,-0.35714285714285721]
["Health",7.1999999999999995E-2,6.3E-2,6.5000000000000002E-2,7.0000000000000007E-2,7.1999999999999995E-2,7.2999999999999995E-2,7.3999999999999996E-2,7.3999999999999996E-2,7.400000000000001E-2,7.3999999999999996E-2,7.0999999999999994E-2,-4.0540540540540577E-2,-1.3888888888888902E-2]
["Transport",0.14599999999999999,0.16400000000000001,0.183,0.157,0.152,0.154,0.151,0.13900000000000001,0.155,0.16600000000000001,0.17100000000000001,3.0120481927710867E-2,0.17123287671232892]
["Communication",2.1000000000000001E-2,3.3000000000000002E-2,0.03,2.7E-2,2.5999999999999999E-2,2.5999999999999999E-2,2.5000000000000001E-2,2.8000000000000001E-2,0.04,3.7999999999999999E-2,3.5999999999999997E-2,-5.2631578947368467E-2,0.71428571428571408]
["Recreation, entertainment and culture",5.8999999999999997E-2,4.2999999999999997E-2,4.2999999999999997E-2,4.5999999999999999E-2,4.4999999999999998E-2,4.4999999999999998E-2,4.4999999999999998E-2,0.04,6.2E-2,5.8999999999999997E-2,5.7000000000000002E-2,-3.3898305084745679E-2,-3.3898305084745679E-2]
["Education",2.5999999999999999E-2,3.3000000000000002E-2,3.3000000000000002E-2,3.5999999999999997E-2,3.6999999999999998E-2,3.6999999999999998E-2,3.7999999999999999E-2,4.2000000000000003E-2,3.5999999999999997E-2,3.4000000000000002E-2,3.5000000000000003E-2,2.9411764705882377E-2,0.34615384615384637]
["Hotels, cafés, and restaurants",0.03,2.8000000000000001E-2,2.5000000000000001E-2,2.7E-2,2.5999999999999999E-2,2.7E-2,2.7E-2,1.7000000000000001E-2,3.6999999999999998E-2,4.2999999999999997E-2,5.0999999999999997E-2,0.186046511627907,0.7]
["Miscellaneous goods and services",0.105,0.11700000000000001,0.114,0.11,0.113,0.115,0.114,0.123,0.13200000000000001,0.13500000000000001,0.126,-6.6666666666666721E-2,0.20000000000000007]
["Totalb",1,{"$f":"SUM(C5:C16)","v":1},1,1,{"$f":"SUM(F5:F16)","v":1},{"$f":"SUM(G5:G16)","v":1},{"$f":"SUM(H5:H16)","v":1.0000000000000002},1,{"$f":"SUM(J5:J16)","v":1.0000000000000002},1,1,"—","—"]
["Source: SARB, Quarterly Bulletin March 2024, 2024, S-123"]
["a  At current prices."]
["b  Figures should add up vertically but may not, owing to rounding."]

{"sheet":"Final consumption of households","index":69,"n_rows":43,"n_cols":12,"rows_kept":43,"cut":false,"hidden":false,"merged":[[1,0,1,11],[32,0,32,10],[3,10,3,11],[34,0,34,5],[4,1,4,9]]}
[]
["Final consumption expenditurea of households, 2015-23"]
[]
[null,2015,2016,2017,2018,2019,2020,2021,2022,2023,"—Change—"]
[null,"—Rbn—",null,null,null,null,null,null,null,null,"2022-23","2015-23"]
["Durable goodsb",278.10000000000002,{"$f":"SUM(C7:C11)","v":261.89999999999998},271.7,289.40000000000003,291.39999999999998,270.09999999999997,301.2,302.2,315.7,{"$f":"(J6-I6)/I6","v":4.4672402382528127E-2},{"$f":"(J6-Total15)/Total15","v":0.13520316432937779}]
["Furniture, household appliances etc",55.4,55.1,56.3,59.7,59.8,56.5,59.9,51.6,54,{"$f":"(J7-I7)/I7","v":4.6511627906976716E-2},-0.80582524271844658]
["Personal transport equipment",134.80000000000001,115.1,113.2,116.4,114.5,101.2,120.6,132.5,142,7.1698113207547168E-2,-0.48939230492628555]
["Computers and related equipment",10.3,10.5,13,14.9,14.6,13,13.2,13.2,13.6,3.0303030303030332E-2,-0.95109672779575682]
["Recreation and entertainment goodsc",54.6,58.4,65.3,71.7,74.8,77.7,86,82.7,82.1,-7.2551390568320251E-3,-0.70478245235526793]
["Other durable goodsd",22.9,22.8,23.9,26.7,27.6,21.7,21.6,22.3,23.9,7.1748878923766718E-2,-0.91405969075871984]
["Semi-durable goodsb",{"$f":"SUM(B13:B17)","v":254.5},{"$f":"SUM(C13:C17)","v":261.8},267.09999999999997,272.60000000000002,276.3,231.60000000000002,252,256.3,268.39999999999998,4.7210300429184414E-2,-3.4879539733908824E-2]
["Clothing and footwear",143.80000000000001,147.9,151.4,151.5,152.1,121.4,136.5,142.69999999999999,150.30000000000001,5.3258584442887343E-2,-0.45954692556634302]
["Household textiles, furnishings, glassware, etc",36.5,37.1,38.299999999999997,40.9,42.4,38.4,39.6,39.6,42,6.0606060606060566E-2,-0.84897518878101408]
["Motor car tyres, parts and accessories",45.2,47.1,45.8,45.9,47.1,41.5,43.3,44.2,46.6,5.4298642533936618E-2,-0.83243437612369653]
["Recreation and entertainment goodse",16.399999999999999,16.399999999999999,17.7,19.399999999999999,19.7,16.5,18.3,17.5,17.100000000000001,-2.2857142857142777E-2,-0.93851132686084138]
["Miscellaneous goodsf",12.6,13.3,13.9,14.8,14.9,13.8,14.4,12.3,12.3,0,-0.9557713052858684]
["Non-durable goodsb",864.4,{"$f":"SUM(C19:C24)","v":872.3},869,889.2,899.9,855.1,892.7,911.4,904.6,-7.4610489357032636E-3,2.2527867673498738]
["Food, beverages and tobacco",529.4,534,530.5,540.1,554.6,520.4,545.6,568.5,566.6,-3.3421284080914289E-3,1.0373966199208917]
["Household fuel, power and water",118.1,118.3,115.8,116.4,114.4,121.2,125.5,122.3,120.1,-1.7988552739166008E-2,-0.56814095649047114]
["Household consumer goods",56.7,58.3,59.5,62.1,63.8,61,66.099999999999994,70.599999999999994,68.099999999999994,-3.5410764872521247E-2,-0.75512405609492994]
["Medical and pharmaceutical products",52.5,55.2,57.1,58.1,58.6,60,63.4,63.9,63.9,0,-0.77022653721682843]
["Petroleum products",81.7,80.2,80,86,82.8,71.900000000000006,71.5,68,69,1.4705882352941176E-2,-0.75188781014023731]
["Recreation and entertainment goodsg",26.1,26.3,26,26.5,25.6,20.7,20.5,18.100000000000001,16.899999999999999,-6.6298342541436614E-2,-0.93923049262855096]
["Servicesb",{"$f":"SUM(B26:B31)","v":1418.1999999999998},{"$f":"SUM(C26:C31)","v":1438.4},1475.2,1511.1000000000001,1529.3,1464.1,1532.6,1586.8,1600.8,8.8227880010083182E-3,4.7562028047464926]
["Renth",308.2,312.5,315.7,319.10000000000002,324.89999999999998,327.60000000000002,330.1,332.5,336.8,1.2932330827067703E-2,0.21107515282272557]
["Household services including domestic servants",61.7,65.5,70.599999999999994,72.7,73.099999999999994,73.2,74,73.5,72.5,-1.3605442176870748E-2,-0.73930240920532186]
["Medical services",147.69999999999999,150.9,154.69999999999999,161.19999999999999,159.1,147.5,156.4,169.7,162.4,-4.3017088980553821E-2,-0.4160373966199209]
["Transport and communication services",311.5,316.8,321.10000000000002,327,331.5,318.2,344.3,359.8,363.5,1.0283490828237879E-2,0.30708378281193804]
["Recreational entertainment and educational servicesi",210.8,218.6,221.6,225.9,225.9,216.5,220.4,219.2,223.7,2.0529197080291973E-2,-0.19561308881697242]
["Miscellaneous servicesj",378.3,374.1,391.6,405.2,414.7,381.1,407.4,432.2,442,2.2674687644609004E-2,0.58935634663789993]
["TOTALb",2815.2,2834.4,2883,2962.3,2996.8,2821,2978.6,3056.7,3089.5,1.0730526384663258E-2,10.109313196691836]
["Source: SARB, Quarterly Bulletin March 2024, S-121"]
["a At constant 2015 prices."]
["b Rand amounts should add up vertically but may not, owing to rounding."]
["c Comprising audio-visual, photographic and communications equipment.  "]
["d Jewellery, watches, therapeutic appliances, etc.  "]
["e Comprising sport and camping equipment, games, hobbies, toys, books and recording media. "]
["f Electrical appliances for personal care and personal effects such as travel goods, car seats, umbrellas etc. "]
["g Comprising newspapers, magazines, stationary, pets and related products as well as garden products, plants and flowers.  "]
["h Including imputed rent for owner-occupied dwellings. "]
["i Comprising cinema, park, museum and theatre entrance fees, subscriptions to cable television, licenses and hiring equipment.  "]
["j After adjustment for net expenditure of non-residents in the domestic sector.  "]

{"sheet":"POVERTY.QOLI","index":70,"n_rows":0,"n_cols":0,"rows_kept":0,"cut":false,"hidden":false,"merged":[]}

{"sheet":"Inflation-adjusted national pov","index":71,"n_rows":30,"n_cols":6,"rows_kept":30,"cut":false,"hidden":false,"merged":[[1,1,1,6],[26,2,26,5],[27,2,27,5],[28,2,28,5],[29,2,29,5],[6,3,6,5],[3,2,3,5],[25,2,25,5]]}
[]
[null,"POVERTY AND QUALITY OF LIFE"]
[]
[null,null,"Inflation-adjusted national poverty linesa, 2006-23"]
[]
[null,null,null,"UBPLb","LBPLc","FPLd"]
[null,null,"Year","—R—"]
[null,null,2006,575,370,219]
[null,null,2008,682,447,274]
[null,null,2009,709,456,318]
[null,null,2010,733,466,320]
[null,null,2011,779,501,335]
[null,null,2012,834,541,366]
[null,null,2013,883,572,386]
[null,null,2014,942,613,417]
[null,null,2015,992,647,441]
[null,null,2016,1077,714,498]
[null,null,2017,1138,758,531]
[null,null,2018,1183,785,547]
[null,null,2019,1227,810,561]
[null,null,2020,1268,840,585]
[null,null,2021,1335,890,624]
[null,null,2022,1417,945,663]
[null,null,2023,1558,1058,760]
[null,null,"2006-23",{"$f":"(D24-D8)/D8","v":1.7095652173913043},{"$f":"(E24-E8)/E8","v":1.8594594594594596},2.4703196347031962]
[null,null,"Source: Stats SA, National Poverty Lines, 28 August 2023, Table 2, p4"]
[null,null,"a Namely the Food Poverty Line (FPL), the Lower-Bound Poverty Line (LBPL), and the Upper-Bound Poverty Line (UBPL).  These lines capture different degrees of poverty and allow the country to measure and monitor poverty at different levels.  "]
[null,null,"b Upper-Bound Poverty Line — Individuals falling under the UBPL can purchase both adequate food and non-food items.  "]
[null,null,"c Lower-Bound Poverty Line — Individuals falling under the LBPL do not have command over enough resources to purchase or consume both adequate food and non-food items and are therefore forced to sacrifice food to obtain essential non-food items.  "]
[null,null,"d Food Poverty Line — The FPL is the rand value below which individuals are unable to purchase or consume enough food to supply them with the minimum per-capita-per-day energy requirement for adequate health.  The LBPL and the UBPL are derived using the FPL as a base, but also include a non-food component.  "]

{"sheet":"Households classified as poor","index":72,"n_rows":15,"n_cols":5,"rows_kept":15,"cut":false,"hidden":false,"merged":[[1,1,1,4],[13,1,13,4],[14,1,14,4]]}
[]
[null,"Households classified as poora by metropolitan municipality, 2023"]
[]
[null,"Metropolitan area","Total  households","Poor households","As a proportion of total households"]
[null,"Buffalo City",256000,75000,{"$f":"(D5/C5)","v":0.29296875}]
[null,"Cape Town",1400000,335000,{"$f":"(D6/C6)","v":0.2392857142857143}]
[null,"Ekurhuleni",1459000,366000,{"$f":"(D7/C7)","v":0.25085675119945167}]
[null,"eThekwini",1308000,328000,{"$f":"(D8/C8)","v":0.25076452599388377}]
[null,"Johannesburg",2280000,629000,0.27587719298245617]
[null,"Mangaung",306000,89000,0.2908496732026144]
[null,"Nelson Mandela Bay",377000,56000,0.14854111405835543]
[null,"Tshwane",1332000,297000,{"$f":"(D12/C12)","v":0.22297297297297297}]
[null,"All metros",8718000,2175000,{"$f":"(D13/C13)","v":0.2494838265657261}]
[null,"Source: Stats SA, Selected Development Indicators, Metros 2022,Statistical release P03-18-20, 23 May 2024, Table 2.6, p11"]
[null,"a Those with a monthly expenditure below R2 500."]

{"sheet":"Subjective poverty by province","index":73,"n_rows":21,"n_cols":5,"rows_kept":21,"cut":false,"hidden":false,"merged":[[5,2,5,4],[18,1,18,4],[19,1,19,4],[20,1,20,4],[1,1,2,4],[16,1,16,4],[17,1,17,4]]}
[]
[null,"Subjective poverty indicatorsa, by province, 2022"]
[]
[]
[null,null,"SPWQb","MIQc","IEQd"]
[null,"Province","—Proportion of households—"]
[null,"Eastern Cape",0.29099999999999998,0.59899999999999998,0.55600000000000005]
[null,"Free State",0.222,0.47399999999999998,0.42799999999999999]
[null,"Gauteng",0.21299999999999999,0.58799999999999997,0.47699999999999998]
[null,"KwaZulu-Natal",0.311,0.433,0.36899999999999999]
[null,"Limpopo",0.34899999999999998,0.439,0.46]
[null,"Mpumalanga",0.22600000000000001,0.51700000000000002,0.58199999999999996]
[null,"North West",0.443,0.53200000000000003,0.499]
[null,"Northern Cape",0.216,0.55800000000000005,0.504]
[null,"Western Cape",0.18,0.44700000000000001,0.317]
[null,"South Africa",0.26500000000000001,0.51600000000000001,0.45400000000000001]
[null,"Source: Stats SA, Subjective poverty in South Africa: Findings from the General Household Surveys 2019 and 2022, Figure 2.3, p6."]
[null,"a The three principal indicators used by Stats SA to measure subjective poverty in this report, are the Self-perceived Wealth Question (SPWQ), the Minimum Income Question (MIQ) and the Income Evaluation Question (IEQ)."]
[null,"b SPWQ — \"Would you say you and your household are at present wealthy, very comfortable, reasonably comfortable, just getting along, poor, very poor?\" Households who responded 'poor' or 'very poor', are termed subjectively poor."]
[null,"c MIQ — “Which net household income per month in Rand would be the absolute minimum for your household? That is to say, that you would not be able to make ends meet if you earned less.” If reported per capita household consumption falls below this minimum income level, then the household (and all individuals living in it) is identified as poor. "]
[null,"d “Is the total monthly income of your household higher, lower or more or less the same as the minimum income given for MIQ?” A direct way to use the MIQ available in the Living Conditions Survey is to ask respondents whether their household's actual level of income is above or below the minimum level reported in the previous question. In this way, respondents evaluate their own perception on whether they receive more than their reported minimum level (IEQ)."]

{"sheet":"Subjective poverty by race","index":74,"n_rows":16,"n_cols":5,"rows_kept":16,"cut":false,"hidden":false,"merged":[[13,1,13,4],[14,1,14,4],[15,1,15,4],[1,1,2,4],[5,2,5,4],[11,1,11,4],[12,1,12,4]]}
[]
[null,"Subjective poverty indicatorsa, by race, 2022"]
[]
[]
[null,null,"SPWQb","MIQc","IEQd"]
[null,"Race","—Proportion of households—"]
[null,"Black",0.30099999999999999,0.53300000000000003,0.48899999999999999]
[null,"Coloured",0.17299999999999999,0.49399999999999999,0.42399999999999999]
[null,"Indian/Asian",6.8000000000000005E-2,0.40899999999999997,0.20799999999999999]
[null,"White",3.6999999999999998E-2,0.39800000000000002,0.20100000000000001]
[null,"South Africa",0.26500000000000001,0.51600000000000001,0.45400000000000001]
[null,"Source: Stats SA, Subjective poverty in South Africa: Findings from the General Household Surveys 2019 and 2022, Figure 2.6, p9."]
[null,"a The three principal indicators used by Stats SA to measure subjective poverty in this report, are the Self-perceived Wealth Question (SPWQ), the Minimum Income Question (MIQ) and the Income Evaluation Question (IEQ)."]
[null,"b SPWQ — \"Would you say you and your household are at present wealthy, very comfortable, reasonably comfortable, just getting along, poor, very poor?\" Households who responded 'poor' or 'very poor', are termed subjectively poor."]
[null,"c MIQ — “Which net household income per month in Rand would be the absolute minimum for your household? That is to say, that you would not be able to make ends meet if you earned less.” If reported per capita household consumption falls below this minimum income level, then the household (and all individuals living in it) is identified as poor. "]
[null,"d “Is the total monthly income of your household higher, lower or more or less the same as the minimum income given for MIQ?” A direct way to use the MIQ available in the Living Conditions Survey is to ask respondents whether their household's actual level of income is above or below the minimum level reported in the previous question. In this way, respondents evaluate their own perception on whether they receive more than their reported minimum level (IEQ)."]

{"sheet":"Subjective poverty by education","index":75,"n_rows":20,"n_cols":5,"rows_kept":20,"cut":false,"hidden":false,"merged":[[19,1,19,4],[1,1,2,4],[5,2,5,4],[15,1,15,4],[16,1,16,4],[17,1,17,4],[18,1,18,4]]}
[]
[null,"Subjective poverty indicatorsa, by level of education, 2022"]
[]
[]
[null,null,"SPWQb","MIQc","IEQd"]
[null,"Education level","—Proportion of households—"]
[null,"No schooling",0.40799999999999997,0.50800000000000001,0.55500000000000005]
[null,"Some primary",0.41299999999999998,0.52800000000000002,0.53100000000000003]
[null,"Completed primary",0.39500000000000002,0.51,0.502]
[null,"Lower secondary",0.379,0.55600000000000005,0.53500000000000003]
[null,"Upper secondary",0.33600000000000002,0.55500000000000005,0.51800000000000002]
[null,"NSC/Grade 12",0.192,0.52700000000000002,0.42599999999999999]
[null,"Post school",5.6000000000000001E-2,0.41899999999999998,0.27800000000000002]
[null,"Other",0.24099999999999999,0.55700000000000005,0.51200000000000001]
[null,"South Africa",0.26500000000000001,0.51600000000000001,0.45400000000000001]
[null,"Source: Stats SA, Subjective poverty in South Africa: Findings from the General Household Surveys 2019 and 2022, Figure 2.3, p6."]
[null,"a The three principal indicators used by Stats SA to measure subjective poverty in this report, are the Self-perceived Wealth Question (SPWQ), the Minimum Income Question (MIQ) and the Income Evaluation Question (IEQ)."]
[null,"b SPWQ — \"Would you say you and your household are at present wealthy, very comfortable, reasonably comfortable, just getting along, poor, very poor?\" Households who responded 'poor' or 'very poor', are termed subjectively poor."]
[null,"c MIQ — “Which net household income per month in Rand would be the absolute minimum for your household? That is to say, that you would not be able to make ends meet if you earned less.” If reported per capita household consumption falls below this minimum income level, then the household (and all individuals living in it) is identified as poor. "]
[null,"d “Is the total monthly income of your household higher, lower or more or less the same as the minimum income given for MIQ?” A direct way to use the MIQ available in the Living Conditions Survey is to ask respondents whether their household's actual level of income is above or below the minimum level reported in the previous question. In this way, respondents evaluate their own perception on whether they receive more than their reported minimum level (IEQ)."]

{"sheet":"QOLI","index":76,"n_rows":0,"n_cols":0,"rows_kept":0,"cut":false,"hidden":false,"merged":[]}

{"sheet":"QOLI Index","index":77,"n_rows":24,"n_cols":13,"rows_kept":24,"cut":false,"hidden":false,"merged":[[0,0,0,11],[2,0,2,12],[4,0,4,12],[23,0,23,12]]}
["QOLI Index"]
[]
["The QOLI Index was developed by the CRA, and provides an overview of the quality of life in South Africa. The index is based on ten weighted indicators that are indicative of the quality of life of a person or household. Each indicator has been translated into a score of between 0 and 10. A score closer to 0 would indicate poor performance on the indicator in question. Inversely, a score closer to 10 would indicate better performance."]
[]
["Quality of Life Index (QOLI)"]
[]
["Province","Matric pass rate","Unemployment (expanded definition)","Spending         R10 000 or more per month","Dwellings owned but not yet paid off to bank","Access to piped water","Electricity for cooking","Access to a basic sanitation facility","Refuse removal","Medical aid coverage","Murder rate","Index score 1"]
["Eastern Cape",7.3,4.8,1.2,0.3,7,7.8,9,4.2,1.1000000000000001,3.4,{"$f":"AVERAGE(B8:K8)","v":4.6100000000000012}]
["Free State",8.6,6,1.4,0.3,9.4,8.8000000000000007,8.6999999999999993,7.2,1.5,6.6,{"$f":"AVERAGE(B9:K9)","v":5.8500000000000005}]
["Gauteng",8.3000000000000007,5.9,2.2999999999999998,1.2,9.8000000000000007,8.5,9.1999999999999993,8.4,2.2000000000000002,6.5,6.23]
["KwaZulu-Natal",7.7,5.0999999999999996,1.5,0.6,8.4,8.6999999999999993,8.3000000000000007,5.0999999999999996,1.1000000000000001,4.4000000000000004,5.09]
["Limpopo",6.7,5.2,0.8,0.2,6.9,6.4,6.3,2.4,0.9,8.3000000000000007,4.4099999999999993]
["Mpumalanga",7.4,5.2,1.2,0.3,8.6999999999999993,7.6,6.4,4.2,1,7.5,4.95]
["North West",7.8,5.0999999999999996,1.4,0.3,8.5,8.3000000000000007,7.3,5.0999999999999996,1.4,7.5,5.2700000000000005]
["Northern Cape",7.1,5.4,1.8,0.5,9.1999999999999993,8,8.4,6.2,1.6,7.2,5.5400000000000009]
["Western Cape",8.1,6.9,3.8,1.6,9.9,7.9,9.6,8.9,2.5,4.2,6.3400000000000007]
["South Africa",7.6,5.6,1.9,0.8,8.9,8.1,8.4,6.3,1.6,5.8,5.4999999999999991]
["Race","Matric pass rate","Unemployment (expanded definition)","Spending         R10 000 or more per month","Dwellings owned but not yet paid off to bank","Access to piped water","Electricity for cooking","Access to a basic sanitation facility","Refuse removal","Medical aid coverage","Murder rate","Index score 1a","Index score 2a"]
["Black ",7.9,5.2,1.2,0.4,8.6999999999999993,8.1999999999999993,8.1,5.6,1,"(5.8)",{"$f":"AVERAGE(B19:J19)","v":5.1444444444444439},5.2]
["Coloured",8.1,6.4,3,1.4,9.9,8.1999999999999993,9.6,9.1999999999999993,1.8,"(5.8)",{"$f":"AVERAGE(B20:J20)","v":6.3999999999999995},6.3]
["Indian/Asian",9,7.4,6.1,2.5,9.8000000000000007,8.4,9.9,9.5,4.9000000000000004,"(5.8)",7.5,7.3]
["White",9.9,8.9,7,2.9,9.4,7.5,9.9,9,7.2,"(5.8)",7.9666666666666668,7.8]
["South Africa ",8,5.6,1.9,0.8,8.9,8.1,8.4,6.3,1.6,"(5.8)",5.6,5.5]
["a Statistics for the murder rate by race were unavailable.  Therefore, Index Score 1 by race serves as an aggregate for all the indicators, excluding the murder rate.   Index Score 2 by race serves as an aggregate for all of the indicators, with the national murder rate used for each population group.  There is not much of a difference between the final index scores, whether or not the murder rate is included.  "]

{"sheet":"Macros","index":78,"n_rows":16,"n_cols":7,"rows_kept":16,"cut":false,"hidden":false,"merged":[]}
[]
["A","HEAD 1","HELVETICA NEUE 21 pt"]
[]
["B","HEAD 2","Helvetica Neue 18 pt"]
[null,null,null,null,null,null,"jhfkhgf"]
["C","HEAD 3","Helvetica Neue 16 pt"]
[]
["D","HEAD 4","Helvetica Neue 14 pt"]
[]
["E","HEAD 5","Lucia 12 pt"]
[]
["F","HEAD 6","Helvetica Neue 13 pt"]
[]
["G","HEAD 7","Helvetica Neue 12 pt"]
[]
["H","HEAD 8","Helvetica Neue 11 pt","Source, Footnote, Text"]